BEGIN:VCALENDAR
PRODID:NingEventWidget-v1
VERSION:2.0
METHOD:PUBLISH
BEGIN:VTIMEZONE
TZID:America/Anguilla
X-LIC-LOCATION:America/Anguilla
BEGIN:STANDARD
TZOFFSETFROM:-0400
TZOFFSETTO:-0400
TZNAME:AST
DTSTART:19700101T000000
END:STANDARD
END:VTIMEZONE
BEGIN:VEVENT
UID:2024711:Event:26825
DTSTAMP:20260419T095958Z
SUMMARY:HAMILTON ACTION FOR THE CANCUN CLIMATE CONFERENCE
DESCRIPTION:HAMILTON ACTION FOR THE CANCUN CLIMATE CONFERENCE\nON DEC 
 4 WE WILL STAND IN UNITY WITH PEOPLE AROUND THE WORLD SUPPORTING REAL 
 ACTION ON CLIMATE CHANGE\n\n\n\n \n\nFor more information visit https:
 //fixourworld.ca/events/hamilton-action-for-the-cancun
DTSTART;TZID=America/Anguilla:20101204T150000
DTEND;TZID=America/Anguilla:20101204T160000
CATEGORIES:hamilton, action, for, climate, change
LOCATION:QUEENSTON RD in front of Eastgate  Square
WEBSITE:http://www.hamilton350.com
URL:http://www.hamilton350.com
CONTACT:
ORGANIZER:hamiton 350 Committee
ATTACH;FMTTYPE="image/jpeg":http://storage.ning.com/topology/rest/1.0/
 file/get/2819572313?profile=original
ATTENDEE;ROLE=REQ-PARTICIPANT;PARTSTAT=ACCEPTED;RSVP=TRUE;CN=FixOurWor
 ld:https://fixourworld.ca/profile/Chad
END:VEVENT
END:VCALENDAR
