BEGIN:VCALENDAR
PRODID:NingEventWidget-v1
VERSION:2.0
METHOD:PUBLISH
BEGIN:VTIMEZONE
TZID:America/Anguilla
X-LIC-LOCATION:America/Anguilla
BEGIN:STANDARD
TZOFFSETFROM:-0400
TZOFFSETTO:-0400
TZNAME:AST
DTSTART:19700101T000000
END:STANDARD
END:VTIMEZONE
BEGIN:VEVENT
UID:2024711:Event:53247
DTSTAMP:20260425T132438Z
SUMMARY:Good Food Box Packing
DESCRIPTION:\n LOWER CITY pack day at 500 James St. North, so  I'm
  checking to see who will be willing and able to help us out tomorrow.
   It's going to be a biggie due to succesful project growth.\nPlease 
 arrive at 10am for orientation and a smooth start -- and if  you ha
 ven't checked it our yet come see our cool new conveyor and meet our n
 ew \"Pack Captain\" if you haven't yet had the pleasure, Juby Lee of E
 nvironment Hamilton!\nIf you're bringing someone new please arrive a l
 ittle earlier so they have time to read and sign the Volunteer Waiver\
 nWe'll be serving muffins and/or bagels as well as coffee/tea to refre
 sh you.\n\nLooking forward to this one!!  See you there!  :-)\n \n*
 karen b\n-- \nKaren Burson, Project ManagerHAMILTON EAT LOCALEnvironm
 ent Hamilton22 Wilson Street, 2nd Floor (NEW office, same building!)Ha
 milton, ON L8R 1C5905-549-0900\n \n\nHamilton Eat Local was establis
 hed in 2005 to increase the consumption of local and sustainable foo
 d in our region. \n\n\nFor more information visit https://fixourworld
 .ca/events/good-food-box-packing
DTSTART;TZID=America/Anguilla:20121121T100000
DTEND;TZID=America/Anguilla:20121121T120000
CATEGORIES:volunteer, food, packing, for, good, box
LOCATION:Downtown Hamilton
WEBSITE:
URL:
CONTACT:905-549-0900
ORGANIZER:Hamilton Eat Loca
ATTACH;FMTTYPE="image/jpeg":http://storage.ning.com/topology/rest/1.0/
 file/get/2819575722?profile=original
ATTENDEE;ROLE=REQ-PARTICIPANT;PARTSTAT=ACCEPTED;RSVP=TRUE;CN=FixOurWor
 ld:https://fixourworld.ca/profile/Chad
END:VEVENT
END:VCALENDAR
