BEGIN:VCALENDAR
PRODID:NingEventWidget-v1
VERSION:2.0
METHOD:PUBLISH
BEGIN:VTIMEZONE
TZID:America/Anguilla
X-LIC-LOCATION:America/Anguilla
BEGIN:STANDARD
TZOFFSETFROM:-0400
TZOFFSETTO:-0400
TZNAME:AST
DTSTART:19700101T000000
END:STANDARD
END:VTIMEZONE
BEGIN:VEVENT
UID:2024711:Event:68322
DTSTAMP:20260424T100257Z
SUMMARY:Global Indigenous Wisdom Summit Nov 18, 19, 20, 2014
DESCRIPTION:\nThe Global Indigenous Wisdom Summit!\nMark your calendar
  for November 18-20 — and prepare to join esteemed Indigenous sister
 s and brothers from around Mother Earth who are gathering together to 
 show the human family how we can overcome our challenges and truly wal
 k a unified path of healing and sacred action.\nThe Global Indigenous 
 Wisdom Summit Program Includes:\nNov. 18 - Indigenous Prophecies & Wis
 dom Nov. 19 - Challenges & the Healing Journey Nov. 20 - Bringing Our 
 Prophecies & Highest Visions into Reality\nI personally want to thank 
 you for saying “YES” to this live event, where you’ll learn a ne
 w way of being in this dynamic world, as well as guiding principles th
 at can help us fully realize the unlimited potential of the human fami
 ly, both individually and collectively.\nThe Program Schedule with dat
 es and times can be found at this link: http://indigenouswisdomsummit.
 com/program\nNote: All sessions are in Pacific time, and a Time Zone C
 onverter is also included for your convenience.  \n==================
 =============Peacebuilding (AfP) is a coalition of diverse organizatio
 ns and professionals working together to build sustainable peace and s
 ecurity worldwide. Members of AfP are directly engaged in applied conf
 lict prevention and resolution, providing negotiation and mediation se
 rvices, training negotiators, facilitating communication to break down
  barriers, and helping find solutions to the issues and pressures that
  otherwise drive groups and nations to achieve their objectives throug
 h violent force.\n~ Website\n\nUNIFY's mission is support the movement
  of Global Unification by catalyzing and supporting Global\n\n\n\n\n\n
 \n\n\nFor more information visit https://fixourworld.ca/events/global-
 indigenous-wisdom-nov-18-19-20-2014
DTSTART;TZID=America/Anguilla:20141119T120000
DTEND;TZID=America/Anguilla:20141120T173000
CATEGORIES:global, indigenous, wisdom, summit
LOCATION:Online Global
WEBSITE:http://theshiftnetwork.com/
URL:http://theshiftnetwork.com/
CONTACT:Your call-in number: +1-530-216-4294 (click here for other acc
 ess numbers and methods) Your access PIN is: 686909# (backup PIN: 4655
 62#)
ORGANIZER:The Shift Network
ATTACH;FMTTYPE="image/jpeg":http://storage.ning.com/topology/rest/1.0/
 file/get/2819577058?profile=original
ATTENDEE;ROLE=REQ-PARTICIPANT;PARTSTAT=ACCEPTED;RSVP=TRUE;CN=FixOurWor
 ld:https://fixourworld.ca/profile/Chad
END:VEVENT
END:VCALENDAR
