BEGIN:VCALENDAR
PRODID:NingEventWidget-v1
VERSION:2.0
METHOD:PUBLISH
BEGIN:VTIMEZONE
TZID:America/Anguilla
X-LIC-LOCATION:America/Anguilla
BEGIN:STANDARD
TZOFFSETFROM:-0400
TZOFFSETTO:-0400
TZNAME:AST
DTSTART:19700101T000000
END:STANDARD
END:VTIMEZONE
BEGIN:VEVENT
UID:2024711:Event:7884
DTSTAMP:20260424T095952Z
SUMMARY:Girls Day Out  Swap n’ Shop Event
DESCRIPTION:Girls Day Out\n\nSwap\nn’ Shop Event\n\na ‘not for pro
 fit’ event for women!!!\n\nSunday April 26th 11am to 4pm\n\nLocation
 : Central Hamilton\n\n\n\n* Choose “New to You” items from the “
 Gently-Used” clothing swap\n\n* Enjoy a light Buffet Lunch and refre
 shments\n\n* A fun time with the girls; this is a Kid & Husband free z
 one\n\n* Shop with the vendors for products and services geared to wom
 en\n\n* There are lots of great Door Prizes to be won\n\n* Enjoy compl
 imentary express manicures, massage, makeup & hair-\n\nstyling service
 s, craft make & takes, wardrobe advice & more!\n\n* An opportunity to 
 ReInvent your wardrobe\n\n* There will be a networking station to prom
 ote your community group\n\nor “Green-Living” Initiatives!\n\n\n\n
 This event is geared to cleaning out your closets and getting rid of w
 hat you no longer wear. Let’s create change and ReUse, Reduce, Re-cy
 cle our wardrobes and save some money! The number of articles you can 
 take at the swap, will be determined by the number of articles you hav
 e donated. Items left over after the swap event will not be returned a
 s they will be donated to a local women’s charity.\n\n\n\nCost is $1
 5 which includes lunch & lots of FUN!!\n\nYou need to\nregister in adv
 ance for this event\n\nto attend; please\nCall Lisa 905-574-9922\n\n(o
 r email:\nlisaw@mountaincable.net\n\nFor more information visit https:
 //fixourworld.ca/events/girls-day-out-swap-n-shop
DTSTART;TZID=America/Anguilla:20090426T110000
DTEND;TZID=America/Anguilla:20090426T160000
CATEGORIES:swap, "&", shop
LOCATION:Central Hamilton
WEBSITE:
URL:
CONTACT:905.574.9922
ORGANIZER:lisa wanner
ATTACH;FMTTYPE="image/jpeg":http://storage.ning.com/topology/rest/1.0/
 file/get/2819571560?profile=original
ATTENDEE;ROLE=REQ-PARTICIPANT;PARTSTAT=ACCEPTED;RSVP=TRUE;CN=Valerie:h
 ttps://fixourworld.ca/profile/Valerie
ATTENDEE;ROLE=REQ-PARTICIPANT;PARTSTAT=ACCEPTED;RSVP=TRUE;CN="Sherri T
 remblay":https://fixourworld.ca/profile/SherriTremblay
ATTENDEE;ROLE=REQ-PARTICIPANT;PARTSTAT=ACCEPTED;RSVP=TRUE;CN="Paula Ur
 quhart":https://fixourworld.ca/profile/PaulaUrquhart
ATTENDEE;ROLE=REQ-PARTICIPANT;PARTSTAT=ACCEPTED;RSVP=TRUE;CN="Lisa Wan
 ner":https://fixourworld.ca/profile/LisaWanner
ATTENDEE;ROLE=REQ-PARTICIPANT;PARTSTAT=ACCEPTED;RSVP=TRUE;CN=FixOurWor
 ld:https://fixourworld.ca/profile/Chad
ATTENDEE;ROLE=REQ-PARTICIPANT;PARTSTAT=TENTATIVE;RSVP=TRUE;CN="Liz Wea
 ver":https://fixourworld.ca/profile/LizWeaver
END:VEVENT
END:VCALENDAR
