BEGIN:VCALENDAR
PRODID:NingEventWidget-v1
VERSION:2.0
METHOD:PUBLISH
BEGIN:VTIMEZONE
TZID:America/Anguilla
X-LIC-LOCATION:America/Anguilla
BEGIN:STANDARD
TZOFFSETFROM:-0400
TZOFFSETTO:-0400
TZNAME:AST
DTSTART:19700101T000000
END:STANDARD
END:VTIMEZONE
BEGIN:VEVENT
UID:2024711:Event:9409
DTSTAMP:20260424T034513Z
SUMMARY:GET ON THE BUS!!
DESCRIPTION:People from towns across Ontario facing major hospital cut
 s or closures are joining in solidarity to ask McGuinty to protect our
  local hospitals.\n\nDozens of buses are already booked. Thousands wil
 l be coming out. Join the giant rally at Queen's Park and help save ou
 r hospitals!!!\n\nThe legislature will be in session - this is our cha
 nce to make McGuinty LISTEN to the concerns of our communities.\n\nBus
 es will leave Hamilton from Lime Ridge Mall at 9:45 am from the parkin
 g lot at The Bay (Wentworth & LINC corner of the mall, across from the
  Legion). We will travel to Queen's Park from there and supporters wil
 l be brought back to this spot by 3 pm.\n\nTo reserve your seat please
  contact Nancy at 905-385-1933.\n\nPeople from all across Ontario will
  be attending including Marching Bands, Service Clubs, Legions, Concer
 ned Citizens, Unions, Health Professionals, Seniors' Organizations, Cu
 ltural Organizations, Social Services and more!!\n\nFor more informati
 on visit https://fixourworld.ca/events/get-on-the-bus
DTSTART;TZID=America/Anguilla:20090429T094500
DTEND;TZID=America/Anguilla:20090429T150000
CATEGORIES:causes, -, protest
LOCATION:Lime Ridge Mall
WEBSITE:http://nphillips4@quickclic.net
URL:http://nphillips4@quickclic.net
CONTACT:9053851933
ORGANIZER:Hamilton Health Coalition
ATTACH;FMTTYPE="image/jpeg":http://storage.ning.com/topology/rest/1.0/
 file/get/2819571526?profile=original
ATTENDEE;ROLE=REQ-PARTICIPANT;PARTSTAT=ACCEPTED;RSVP=TRUE;CN=Valerie:h
 ttps://fixourworld.ca/profile/Valerie
ATTENDEE;ROLE=REQ-PARTICIPANT;PARTSTAT=ACCEPTED;RSVP=TRUE;CN=FixOurWor
 ld:https://fixourworld.ca/profile/Chad
END:VEVENT
END:VCALENDAR
