BEGIN:VCALENDAR
PRODID:NingEventWidget-v1
VERSION:2.0
METHOD:PUBLISH
BEGIN:VTIMEZONE
TZID:America/Anguilla
X-LIC-LOCATION:America/Anguilla
BEGIN:STANDARD
TZOFFSETFROM:-0400
TZOFFSETTO:-0400
TZNAME:AST
DTSTART:19700101T000000
END:STANDARD
END:VTIMEZONE
BEGIN:VEVENT
UID:2024711:Event:54179
DTSTAMP:20260426T000238Z
SUMMARY:Documentary Film \"Its A Girl\" raising awareness on Gendercid
 e
DESCRIPTION: ‘It’s A Girl,’ the documentary film, is about the
  estimated 200 million girls who are missing in the world due to gende
 rcide. Shot on location in India and China, It’s a Girl exposes th
 e truth about this war against girls and laments the lack of any effec
 tive measure against this injustice. \nThe Divine Light Awakening So
 ciety understands there is truly an answer to restoring balance.\nSat
 urday, February 2, 2013 at 1441 Barton St E, Hamilton from 11.00 a.m. 
 to 1.00 p.m. for a viewing of this documentary.\nThere will also be a 
 presentation on Santulan – our Gender Equality Program. Lunch will b
 e served. For more information call 905-545-9178 or email divinelig
 htawakeningsociety@gmail.com.\n‘Take a breath, and you sample the wo
 rld.’\nSo reads a National Geographic Jan 2013 article on microbes. 
 Many airborne microbes travel enormous distances, eventually circling 
 the globe.\nSimilarly human activity, in any part of the globe affects
  us all.\nIf you stand for Gender Equality, Human Rights, Non-Violence
 , and are anti Gendercide, join us.\nHope to see you then.\nSincerely,
 \n\nBhavya\n\nFor more information visit https://fixourworld.ca/events
 /gender-equality-program
DTSTART;TZID=America/Anguilla:20130202T110000
DTEND;TZID=America/Anguilla:20130202T130000
CATEGORIES:documentary, film, raising, awareness, on, gendercide
LOCATION:Divine Light Awakening Society (Tragina & Barton North West c
 orner)
WEBSITE:http://www.divinelighthamilton.com
URL:http://www.divinelighthamilton.com
CONTACT:905-545-9178
ORGANIZER:Divine Light Awakening Society
ATTACH;FMTTYPE="image/jpeg":http://storage.ning.com/topology/rest/1.0/
 file/get/2819576366?profile=original
ATTENDEE;ROLE=REQ-PARTICIPANT;PARTSTAT=ACCEPTED;RSVP=TRUE;CN=FixOurWor
 ld:https://fixourworld.ca/profile/Chad
END:VEVENT
END:VCALENDAR
