BEGIN:VCALENDAR
PRODID:NingEventWidget-v1
VERSION:2.0
METHOD:PUBLISH
BEGIN:VTIMEZONE
TZID:America/Anguilla
X-LIC-LOCATION:America/Anguilla
BEGIN:STANDARD
TZOFFSETFROM:-0400
TZOFFSETTO:-0400
TZNAME:AST
DTSTART:19700101T000000
END:STANDARD
END:VTIMEZONE
BEGIN:VEVENT
UID:2024711:Event:16873
DTSTAMP:20260421T214523Z
SUMMARY:From Hamilton To Haiti
DESCRIPTION:An ongoing Series of Concerts and Events raising money for
  the People of Haiti. Money raised to date : $4000.00 for the Albert S
 chwietzer Hospital in Haiti\n\nFor more information visit https://fixo
 urworld.ca/events/from-hamilton-to-haiti
DTSTART;TZID=America/Anguilla:20100121T000000
DTEND;TZID=America/Anguilla:20101217T235900
CATEGORIES:enviromental
LOCATION:Venues Across Hamilton
WEBSITE:
URL:
CONTACT:905.518.1308
ORGANIZER:Incredible People who care about our Global Family
ATTACH;FMTTYPE="image/jpeg":http://storage.ning.com/topology/rest/1.0/
 file/get/2699571082?profile=original
ATTENDEE;ROLE=REQ-PARTICIPANT;PARTSTAT=ACCEPTED;RSVP=TRUE;CN="Andre & 
 the J-Tones":https://fixourworld.ca/profile/AndretheJTones
ATTENDEE;ROLE=REQ-PARTICIPANT;PARTSTAT=ACCEPTED;RSVP=TRUE;CN=FixOurWor
 ld:https://fixourworld.ca/profile/Chad
END:VEVENT
END:VCALENDAR
