BEGIN:VCALENDAR
PRODID:NingEventWidget-v1
VERSION:2.0
METHOD:PUBLISH
BEGIN:VTIMEZONE
TZID:America/Anguilla
X-LIC-LOCATION:America/Anguilla
BEGIN:STANDARD
TZOFFSETFROM:-0400
TZOFFSETTO:-0400
TZNAME:AST
DTSTART:19700101T000000
END:STANDARD
END:VTIMEZONE
BEGIN:VEVENT
UID:2024711:Event:17044
DTSTAMP:20260421T200627Z
SUMMARY:\"FROM HAMILTON TO HAITI\" @ The CASBAH LOUNGE
DESCRIPTION:FROM HAMILTON TO HAITI\nA series of benefit concerts\nrais
 ing funds for Haiti\n---------------------------------------\nFROM HAM
 ILTON TO HAITI\n@\nCASBAH LOUNGE\n306 King St.W Hamilton, ON\n\n\nTUES
 DAY JAN 26th 2010\nSHOWTIME 7 PM\n$10 @ the door OR love offering PWYC
 /.\n\n( the government is matching all donations...\nSOO, your 10 buck
 s is $20 for the people of Haiti )\n----------------------\nFEATURING 
 ...\n\n\n7 :00\nThe Petit Fours\n*who said wait until the show is over
  to eat the cake? :P\n\n7:30\nAutistic Love\nhttp://www.myspace.com/au
 tisticlove\n\n8:00\nThe Human Race\nhttp://www.myspace.com/thehumanrac
 emusic\n\n8:30\nAlyssa in the apple tree\nhttp://www.myspace.com/alyss
 aintheappletree\n\n9:00\nMEDIOCRE\nhttp://www.myspace.com/mediocrerock
 band\n\n9:30\nThirteen bags of Geistreich\nhttp://www.myspace.com/13ba
 gsofdick\n->WITH A BRAND NEW SOUND <-\n\n\nSTICK AROUND AFTER THIS EVE
 NT FOR AN EXCITNG OPEN MIC\nhosted by Mike \"Goose\" Bell\n**Special t
 ime 10pm-midnight\nAND TO WARM UP FOR AN EXCITING OPEN MIC ...\nLOVE O
 UT LOUD DRUM AND STRUM SESSION\nHOSTED BY\nJames Blair W/\nJuliana La 
 Chance On The Bandura ! <--\nAnd the friends for the Hammer drum circl
 e ! ♥\nBRING A DRUM …. OR JUST SIT AND STRUM..\nWE ARE OPENING OUR
  HEARTS...RELAXING OUR MINDS...RAISING OUR ENERGY TO SEND LOVE AND HEA
 LING TO HAITI !\n\nPlease invite your family, friends and community to
  come out and support this city wide effort.\n\nFor more information v
 isit https://fixourworld.ca/events/from-hamilton-to-haiti-the
DTSTART;TZID=America/Anguilla:20100126T190000
DTEND;TZID=America/Anguilla:20100126T220000
CATEGORIES:fundraiser
LOCATION:CASBAH LOUNGE
WEBSITE:
URL:
CONTACT:
ORGANIZER;CN="James Blair":https://fixourworld.ca/profile/JamesBlair
ATTACH;FMTTYPE="image/jpeg":http://storage.ning.com/topology/rest/1.0/
 file/get/2819572058?profile=original
ATTENDEE;ROLE=REQ-PARTICIPANT;PARTSTAT=ACCEPTED;RSVP=TRUE;CN="James Bl
 air":https://fixourworld.ca/profile/JamesBlair
END:VEVENT
END:VCALENDAR
