BEGIN:VCALENDAR
PRODID:NingEventWidget-v1
VERSION:2.0
METHOD:PUBLISH
BEGIN:VTIMEZONE
TZID:America/Anguilla
X-LIC-LOCATION:America/Anguilla
BEGIN:STANDARD
TZOFFSETFROM:-0400
TZOFFSETTO:-0400
TZNAME:AST
DTSTART:19700101T000000
END:STANDARD
END:VTIMEZONE
BEGIN:VEVENT
UID:2024711:Event:20401
DTSTAMP:20260421T142836Z
SUMMARY:FROM HAMILTON TO HAITI  - ART AND MUSIC DAY A CELEBRATION OF H
 OPE
DESCRIPTION:Hamilton artist James Blair gears up for a special show @ 
 the Mayday festival by releasing a new painting\n\"FROM HAMILTON TO HA
 ITI\".\n\nIt his his goal ensure that the sharing with our brothers an
 d sisters in haiti never ends. Haiti still needs our help and as fello
 w humans it is our duty to lend a hand where it is needed. Please come
  and be part of this celebration of hope, faith and rebuilding.\n\nA s
 pecial showing and silent auction will be held SATURDAY APRIL 3rd @ ST
 UDIO 6 (the gibson school).\n\nAll funds raised will be donated to Hop
 ital Albert Schweitzer Haiti .\n\nFor more information visit https://f
 ixourworld.ca/events/from-hamilton-to-haiti-art
DTSTART;TZID=America/Anguilla:20100403T110000
DTEND;TZID=America/Anguilla:20100403T200000
CATEGORIES:from, hamilton, to, haiti, -, art, show, and, musical, cele
 bration, of, hope
LOCATION:HAMILTON EAST
WEBSITE:http://maps.google.com/maps?f=q&source=s_q&hl=en&geocode=&q=ba
 rton+and+gibson+st+hamilton+ontario&sll=37.0625,-95.677068&sspn=29.025
 693,38.496094&ie=UTF8&hq=&hnear=Barton+St+E+%26+Gibson+Ave,+Hamilton,+
 Hamilton+Division,+Ontario,+Canada&ll=43.256831,-79.837368&spn=0.00650
 1,0.009398&z=16
URL:http://maps.google.com/maps?f=q&source=s_q&hl=en&geocode=&q=barton
 +and+gibson+st+hamilton+ontario&sll=37.0625,-95.677068&sspn=29.025693,
 38.496094&ie=UTF8&hq=&hnear=Barton+St+E+%26+Gibson+Ave,+Hamilton,+Hami
 lton+Division,+Ontario,+Canada&ll=43.256831,-79.837368&spn=0.006501,0.
 009398&z=16
CONTACT:
ORGANIZER;CN="James Blair":https://fixourworld.ca/profile/JamesBlair
ATTACH;FMTTYPE="image/jpeg":http://storage.ning.com/topology/rest/1.0/
 file/get/2819572183?profile=original
ATTENDEE;ROLE=REQ-PARTICIPANT;PARTSTAT=ACCEPTED;RSVP=TRUE;CN="James Bl
 air":https://fixourworld.ca/profile/JamesBlair
END:VEVENT
END:VCALENDAR
