BEGIN:VCALENDAR
PRODID:NingEventWidget-v1
VERSION:2.0
METHOD:PUBLISH
BEGIN:VTIMEZONE
TZID:America/Anguilla
X-LIC-LOCATION:America/Anguilla
BEGIN:STANDARD
TZOFFSETFROM:-0400
TZOFFSETTO:-0400
TZNAME:AST
DTSTART:19700101T000000
END:STANDARD
END:VTIMEZONE
BEGIN:VEVENT
UID:2024711:Event:12103
DTSTAMP:20260420T190657Z
SUMMARY:Free Seminar- Unclaimed Disability Benefits...Are you owed?
DESCRIPTION:Unclaimed Disability Benefits: Are You Owed?\nWe are offer
 ing an information session Tuesday August 25th, 2009 at 7:30 PM\n\n“
 …our goal is to educate the public that there are millions of dollar
 s of unclaimed benefits and services dollars that they are entitled to
 .”\nAngelo Procopio-President WorkAid\nAs a victims’ advocacy firm
 , we have learned that many claimants do not realize that help exists 
 for them. In simple terms, we have learned that although we can’t ma
 ke the pain of their injury go away-whether physical or emotional, how
 ever, we can help them by giving them direction, towards getting them 
 back to as normal a life as possible.\nOur information seminar is a pr
 oduct of what we have learned over the past 12years. For example:\nPeo
 ple do not realize that there is independent help out there to deal wi
 th their claims\nPeople do not realize that once a claim is accepted, 
 that a number of additional benefits are available: for example if a c
 laimant is deemed totally disabled by WSIB, they may be entitled to CP
 P disability, as well as their children being entitled to benefits als
 o.\nPeople will often pay for their own medications, not realizing tha
 t they are covered for those costsPeople do not realize that they are 
 entitled to tax credits\nThese examples are just the tip of the iceber
 g when it comes to the content of our seminar.\n\nAs Margaret Thatcher
  (former Prime Minister of Great Brittan) said:\n\"You may have to fig
 ht a battle more than once to win it.\"\nThe last thing an injured wor
 ker needs is the constant challenge of facing a financial, physical an
 d emotional hardship. Reality is that they should not have to endure t
 hese challenges and WorkAid & Associates Inc. can alleviate these unfa
 ir pressures so they do not have to fight alone.\nBy sharing informati
 on to the public through our seminar, we achieve two goals. First, the
 se people will learn about services and benefits they did not know exi
 sted. Secondly, they will learn, they are not alone.\n\nAbout us:\nBas
 ed in Hamilton, Ontario Canada WorkAid & Associates is a team of highl
 y qualified Paralegals that advocate for a claimants rights when they 
 are unable to work as a result of sickness or injury. Their families n
 eed to be protected; they are entitled to help and support. We are com
 mitted to helping put the pieces of their lives back together again. O
 ur team, of legal professionals, work on their behalf through the enti
 re claim, arbitration, mediation or appeals process pertaining to:\nWS
 IB - Workplace Safety and Insurance Board (Formally known as Workers C
 ompensation Board) Claims or Appeals\nCPP - Canada Pension Plan - Appl
 ication or Appeal\nNon-Economic Loss Benefit (NEL)\nFuture Economic Lo
 ss Benefit (FEL)\nLoss of Earning Benefits (LOE)\nNegotiation and Arbi
 tration\nTo reserve your spot, please RSVP to 905 548 9544 or by email
  maria@workaid.net\n\nFor more information visit https://fixourworld.c
 a/events/free-seminar-unclaimed
DTSTART;TZID=America/Anguilla:20090825T193000
DTEND;TZID=America/Anguilla:20090825T203000
CATEGORIES:seminar, for, injured, workers
LOCATION:1362 Main St East Hamilton
WEBSITE:http://www.workaid.net
URL:http://www.workaid.net
CONTACT:
ORGANIZER:Rose Puzzo
ATTACH;FMTTYPE="image/jpeg":http://storage.ning.com/topology/rest/1.0/
 file/get/2819571754?profile=original
ATTENDEE;ROLE=REQ-PARTICIPANT;PARTSTAT=ACCEPTED;RSVP=TRUE;CN="Angelo P
 rocopio":https://fixourworld.ca/profile/AngeloProcopio
END:VEVENT
END:VCALENDAR
