BEGIN:VCALENDAR
PRODID:NingEventWidget-v1
VERSION:2.0
METHOD:PUBLISH
BEGIN:VTIMEZONE
TZID:America/Anguilla
X-LIC-LOCATION:America/Anguilla
BEGIN:STANDARD
TZOFFSETFROM:-0400
TZOFFSETTO:-0400
TZNAME:AST
DTSTART:19700101T000000
END:STANDARD
END:VTIMEZONE
BEGIN:VEVENT
UID:2024711:Event:27247
DTSTAMP:20260425T094536Z
SUMMARY:FREE HOLIDAY DINNER
DESCRIPTION:FREE HOLIDAY DINNER\nTHURSDAY DECEMBER 23\n5PM\nALL ARE WE
 LCOME\nGOOD FOOD AND LIVE ENTERTAINMENT\n \n327 KING ST E 3RD FLOOR (
 SIDE DOOR)\n\nFor more information visit https://fixourworld.ca/events
 /free-holiday-dinner
DTSTART;TZID=America/Anguilla:20101223T170000
DTEND;TZID=America/Anguilla:20101223T220000
CATEGORIES:celebration, dinner
LOCATION:BIZCLIP
WEBSITE:
URL:
CONTACT:
ORGANIZER:BIZCLIP
ATTACH;FMTTYPE="image/jpeg":http://storage.ning.com/topology/rest/1.0/
 file/get/2819572509?profile=original
ATTENDEE;ROLE=REQ-PARTICIPANT;PARTSTAT=ACCEPTED;RSVP=TRUE;CN="James Bl
 air":https://fixourworld.ca/profile/JamesBlair
ATTENDEE;ROLE=REQ-PARTICIPANT;PARTSTAT=ACCEPTED;RSVP=TRUE;CN=FixOurWor
 ld:https://fixourworld.ca/profile/Chad
END:VEVENT
END:VCALENDAR
