BEGIN:VCALENDAR
PRODID:NingEventWidget-v1
VERSION:2.0
METHOD:PUBLISH
BEGIN:VTIMEZONE
TZID:America/Anguilla
X-LIC-LOCATION:America/Anguilla
BEGIN:STANDARD
TZOFFSETFROM:-0400
TZOFFSETTO:-0400
TZNAME:AST
DTSTART:19700101T000000
END:STANDARD
END:VTIMEZONE
BEGIN:VEVENT
UID:2024711:Event:11021
DTSTAMP:20260421T232227Z
SUMMARY:Free Camping and Concert Confederation Park June 23, 24
DESCRIPTION:Come out and show your support! Too many jobs have been lo
 st! It's time to step up and support our City, Province and Country!\n
 \nFree Camping with the Caravan June 23 and 24 Confederation Park! All
  are welcome!\n\nJune 23 at 4pm join the Caravan at Hamilton General H
 ospital\nJune 23 camp out at Confederation Park with the Caravan\n\nFr
 ee Concert\nJune 24 Confederation Park Tomi Swick, Harrison Kennedy, S
 teve Sinnicks and others are performing.\n\nAll are welcome to come ou
 t and spend the night camping with the Caravan, your friends and famil
 y.\n\nLet's make Hamilton the biggest stop the Caravan has seen!\n\nWe
  need to clean up our own backyards. Come out and be part of the solut
 ion.\n\nFor more information visit https://fixourworld.ca/events/free-
 camping-and-concert
DTSTART;TZID=America/Anguilla:20090623T160000
DTEND;TZID=America/Anguilla:20090625T110000
CATEGORIES:concert, bbq, camping, party
LOCATION:Confederation Park
WEBSITE:http://www.drivetoworkhamilton.ca
URL:http://www.drivetoworkhamilton.ca
CONTACT:
ORGANIZER:Ontario Federation of Labour
ATTACH;FMTTYPE="image/jpeg":
ATTENDEE;ROLE=REQ-PARTICIPANT;PARTSTAT=ACCEPTED;RSVP=TRUE;CN=FixOurWor
 ld:https://fixourworld.ca/profile/Chad
END:VEVENT
END:VCALENDAR
