BEGIN:VCALENDAR
PRODID:NingEventWidget-v1
VERSION:2.0
METHOD:PUBLISH
BEGIN:VTIMEZONE
TZID:America/Anguilla
X-LIC-LOCATION:America/Anguilla
BEGIN:STANDARD
TZOFFSETFROM:-0400
TZOFFSETTO:-0400
TZNAME:AST
DTSTART:19700101T000000
END:STANDARD
END:VTIMEZONE
BEGIN:VEVENT
UID:2024711:Event:53593
DTSTAMP:20260425T224615Z
SUMMARY:Idle No More Flash Mob Events
DESCRIPTION:Flash mobs in support of the national Idle No More campaig
 n. This will be a peaceful demonstartion to bring more awareness to th
 e devestating issues facing Indigenous peoples in turtle island. This 
 event is being organized by @idle no more six nations however we encou
 rage EVERYONE to come out, show ur support and bust a move!!! *please 
 bring rattles and drums *spread the word please help us get as many pp
 l from here as possible!!! * this is a family/kid friendly event *wear
  traditional clothing if u gotter for more information on what is hap
 pening with Indigenous peoples in turtle island and the idle no more c
 ampaign please visit www.idlenomore.com\n\nFor more information visit 
 https://fixourworld.ca/events/flash-mob-at-limeridge-mall
DTSTART;TZID=America/Anguilla:20130116T150000
DTEND;TZID=America/Anguilla:20131231T230000
CATEGORIES:awareness
LOCATION:Various Global
WEBSITE:http://www.idlenomore.com
URL:http://www.idlenomore.com
CONTACT:
ORGANIZER:Idle No More
ATTACH;FMTTYPE="image/jpeg":http://storage.ning.com/topology/rest/1.0/
 file/get/2819575917?profile=original
ATTENDEE;ROLE=REQ-PARTICIPANT;PARTSTAT=ACCEPTED;RSVP=TRUE;CN=FixOurWor
 ld:https://fixourworld.ca/profile/Chad
END:VEVENT
END:VCALENDAR
