BEGIN:VCALENDAR
PRODID:NingEventWidget-v1
VERSION:2.0
METHOD:PUBLISH
BEGIN:VTIMEZONE
TZID:America/Anguilla
X-LIC-LOCATION:America/Anguilla
BEGIN:STANDARD
TZOFFSETFROM:-0400
TZOFFSETTO:-0400
TZNAME:AST
DTSTART:19700101T000000
END:STANDARD
END:VTIMEZONE
BEGIN:VEVENT
UID:2024711:Event:35047
DTSTAMP:20260419T134430Z
SUMMARY:Fix Our World Presents All Ages Series of Music Events
DESCRIPTION:Â \n\nÂ \nFix Our World Canada Presents: All Ages music ev
 ents.Â  Two great Family FriendlyÂ Venues Side by Side.Â \nLIMITED ROO
 M GET YOUR TICKETS FAST\nWINÂ 3 BIKES!!!Â from Evan's Bike Shop\nÂ \nL
 eo Johnson-Guest Speaker- Building a library in Liberia\nÂ \nÂ Venue #
 1: Emick Room -Â  Rhythm & Blues\nÂ BLACK ROSE Together they bring BLA
 CK ROSE for your listening pleasure of Classic Motown. Guest Feature: 
 \"Joe Rhodes\" \"Hamiton's Godfather Of Soul\"Â \nÂ \nÂ Ginger St. Jam
 es - Hamilton Singer/Songwriter â€œ3 Hamilton Music Award Nomintions!Â
  David Lum contemporary folk singer/songwriter and multi-instrumentali
 st from Hamilton,\nÂ \nÂ Venue #2: Marritt Room, Live Music Black Ligh
 t Dance PartyÂ Â All For Nothing- Punk/Rock band Burlington/Hamilton b
 ased. Â \"Best Indie Rock\" Award at the Barrie New Music FestÂ \nÂ \n
 Â Pull Start Rockets - Hamilton- Rocking melodies that are impossible 
 to get out of your head.\nÂ \nÂ Blake Bliss - From Dundas -Is an accom
 plished musician. Indie Acustics-\nÂ \nAdmission: $10.00 Advance, $12.
 00 DoorÂ \nÂ \nSnacks & Refreshments available\nÂ \nProceeds of these 
 events go to support 3rd Annual Fix Our World Festival Sept 9, 10, 11,
  2011 McQuesten Park\nÂ \nVolunteers: Contact fixourworld.ca@gmail.com
  905.518.1308\nhttps://www.facebook.com/event.php?eid=166109366782033#
 !/event.php?eid=166109366782033\nÂ \nÂ \n\n\n\n\n\n\n\n\n\n\n\n\n\nFor
  more information visit https://fixourworld.ca/events/fix-our-world-pr
 esents-all
DTSTART;TZID=America/Anguilla:20110527T190000
DTEND;TZID=America/Anguilla:20110715T000000
CATEGORIES:all, ages, dance, party, -, family, fun, night
LOCATION:TBA
WEBSITE:http://fixourworld.ning.com/events/fix-our-world-presents-all/
 edit
URL:http://fixourworld.ning.com/events/fix-our-world-presents-all/edit
CONTACT:905.518.1308
ORGANIZER:FixOurWorldCanada
ATTACH;FMTTYPE="image/jpeg":http://storage.ning.com/topology/rest/1.0/
 file/get/2819572988?profile=original
ATTENDEE;ROLE=REQ-PARTICIPANT;PARTSTAT=ACCEPTED;RSVP=TRUE;CN="mary jan
 iga":https://fixourworld.ca/profile/maryjaniga
ATTENDEE;ROLE=REQ-PARTICIPANT;PARTSTAT=ACCEPTED;RSVP=TRUE;CN=FixOurWor
 ld:https://fixourworld.ca/profile/Chad
END:VEVENT
END:VCALENDAR
