BEGIN:VCALENDAR
PRODID:NingEventWidget-v1
VERSION:2.0
METHOD:PUBLISH
BEGIN:VTIMEZONE
TZID:America/Anguilla
X-LIC-LOCATION:America/Anguilla
BEGIN:STANDARD
TZOFFSETFROM:-0400
TZOFFSETTO:-0400
TZNAME:AST
DTSTART:19700101T000000
END:STANDARD
END:VTIMEZONE
BEGIN:VEVENT
UID:2024711:Event:50426
DTSTAMP:20260421T170523Z
SUMMARY:Fireworks Canada
DESCRIPTION:\nSERIOUSLY THE ONLY PLACE TO GET YOUR FIREWORKS!!!\nFirew
 orks Canada don't be fooled.  If you want Quality Fireworks at the Be
 st Price you need to come see us.\n*We are a Professional Fireworks Co
 mpany and can hep put a package together for you at your request - To 
 give you and your audience the best experience \n<3 25% OFF ALL FIREW
 ORKS <3 \n<3 BEST QUALITY PRODUCTS.<3 \n<3 BEST PRICE <3 STREET PART
 Y'S <3\nFireworks Canada.net 1252 Speers Rd.  Unit 11 Oakville Ontari
 o  located between 4th and 3rd lines south side on Spears.\nContact 
 905-465-9997 or e-mail  sales@fireworkscanada.net.\n\nHave a Safe Vi
 ctoria Day Weekend!  \nUse Care When Handling Fireworks, They do Blow
  Up lol\nSafety Procedures http://fireworkscanada.net\nHours of Opera
 tion: 9:30am TO 9:00PM Monday Frriday\nSaturday, Sunday and Victoria D
 ay 9:30 to 6pm\n\n\n\nFor more information visit https://fixourworld.c
 a/events/fireworks-canada
DTSTART;TZID=America/Anguilla:20150518T093000
DTEND;TZID=America/Anguilla:20150518T180000
CATEGORIES:fireworks, for, sale
LOCATION:between 4th and 3rd lines south side on Spears.at the very en
 d Unit on the left of parking lot
WEBSITE:http://fireworkscanada.net/
URL:http://fireworkscanada.net/
CONTACT:905 465 9997
ORGANIZER:Fireworks Canada
ATTACH;FMTTYPE="image/jpeg":http://storage.ning.com/topology/rest/1.0/
 file/get/2767040399?profile=original
ATTENDEE;ROLE=REQ-PARTICIPANT;PARTSTAT=ACCEPTED;RSVP=TRUE;CN=FixOurWor
 ld:https://fixourworld.ca/profile/Chad
END:VEVENT
END:VCALENDAR
