BEGIN:VCALENDAR
PRODID:NingEventWidget-v1
VERSION:2.0
METHOD:PUBLISH
BEGIN:VTIMEZONE
TZID:America/Anguilla
X-LIC-LOCATION:America/Anguilla
BEGIN:STANDARD
TZOFFSETFROM:-0400
TZOFFSETTO:-0400
TZNAME:AST
DTSTART:19700101T000000
END:STANDARD
END:VTIMEZONE
BEGIN:VEVENT
UID:2024711:Event:10281
DTSTAMP:20260421T200437Z
SUMMARY:Emergency Fundraiser for Leo Johnson
DESCRIPTION:Hi Everyone. Very important message, I need your help if p
 ossible.\n\nI'm not sure if you have met Leo Johnson the young man (25
 ), McMaster Student, originally from Liberia who was torn from his fam
 ily at 15years old and lived in refugee camps for 8years survived 2 wa
 rs alone and managed to make it to Canada 3 years ago. As soon as he s
 tepped on our soil he saw the problems in our City and started making 
 a difference\n\n(Eg) He helps youth get into University through his ho
 mework club, connects with homeless youth empowers and shows them bett
 er choices, helps people in Poverty, Raises money and awareness for HI
 V/AIDS, gives youth a forum to use their voices through his youth ran 
 programs, so many things, He started CURE Canada etc. www.curecanada.o
 rg\n\n**I was just talking to Leo about a new project he is working on
 . During our conversation I noticed he sounded sick. He told me that h
 e was due to stress.\n\nLast year he found out that his family was ali
 ve in Liberia and has only been able to contact them through phone.\n\
 nHe just got news a few days ago that his Dad was involved in a seriou
 s accident and had to be flown out to another area for emergency surge
 ry where he was placed in an induced coma.\n\nHe is just coming out of
  it now and Doctors will inform Leo of his condition soon. His Dad is 
 going to need long term rehabilitation. Leo is the only person who can
  help his family financially and needs help to pay for the Hospital co
 sts, recovery etc.\n\nI would like to help Leo through some fundraiser
 s to take some of the burden off this young man who is doing so much f
 or our City, even through this stressful time,\nLet's STEP UP and show
  him we appreciate him and help when HE NEEDS US.\n\nCan you help me t
 o make this happen?\nPlease contact me asap and let me know what we ca
 n do\nLinda Lannigan\nFix Our World Foundation\n905.518.1308\n\nFor mo
 re information visit https://fixourworld.ca/events/emergency-fundraise
 r-for-leo
DTSTART;TZID=America/Anguilla:20090524T180000
DTEND;TZID=America/Anguilla:20090630T190000
CATEGORIES:emergency, fundraiser
LOCATION:Global
WEBSITE:http://www.fixourworld.ca
URL:http://www.fixourworld.ca
CONTACT:905.518.1308
ORGANIZER;CN=FixOurWorld:https://fixourworld.ca/profile/Chad
ATTACH;FMTTYPE="image/jpeg":http://storage.ning.com/topology/rest/1.0/
 file/get/2699570983?profile=original
ATTENDEE;ROLE=REQ-PARTICIPANT;PARTSTAT=ACCEPTED;RSVP=TRUE;CN=FixOurWor
 ld:https://fixourworld.ca/profile/Chad
END:VEVENT
END:VCALENDAR
