BEGIN:VCALENDAR
PRODID:NingEventWidget-v1
VERSION:2.0
METHOD:PUBLISH
BEGIN:VTIMEZONE
TZID:America/Anguilla
X-LIC-LOCATION:America/Anguilla
BEGIN:STANDARD
TZOFFSETFROM:-0400
TZOFFSETTO:-0400
TZNAME:AST
DTSTART:19700101T000000
END:STANDARD
END:VTIMEZONE
BEGIN:VEVENT
UID:2024711:Event:68185
DTSTAMP:20260424T060611Z
SUMMARY:Eid Bazaar
DESCRIPTION:Eid Bazaar is a cultural event with the inclusion of shopp
 ing of clothing, jewelery, food and other accessories. Music, Dance an
 d Pakistani Band performance, as well as Punjabi Bhangra will be the p
 art of entertainment. Performance are presents by Youth & Children as 
 well as professional singer TARIQ HAMEED.  Afghani Fashion Show by Ku
 ltura Boutique. Vendors from all over Ontario.\nCity officials and May
 or of HAMILTON will be in attendance. Get ready for unlimited Fun & Fo
 od with EID BAZAAR. Tickets are available at door. Dont MISS out!\n\nC
 heers!\nShahnaz Tehseen\nshaztehseen@yahoo.com\n\nFor more information
  visit https://fixourworld.ca/events/eid-bazaar
DTSTART;TZID=America/Anguilla:20140928T120000
DTEND;TZID=America/Anguilla:20140928T220000
CATEGORIES:cultural, event
LOCATION:Narulas Banquet Hall
WEBSITE:
URL:
CONTACT:905 545 9000       905 578 1686
ORGANIZER;CN="Shahnaz Tehseen":https://fixourworld.ca/profile/ShahnazT
 ehseen
ATTACH;FMTTYPE="image/jpeg":http://storage.ning.com/topology/rest/1.0/
 file/get/2819577275?profile=original
ATTENDEE;ROLE=REQ-PARTICIPANT;PARTSTAT=ACCEPTED;RSVP=TRUE;CN="Shahnaz 
 Tehseen":https://fixourworld.ca/profile/ShahnazTehseen
END:VEVENT
END:VCALENDAR
