BEGIN:VCALENDAR
PRODID:NingEventWidget-v1
VERSION:2.0
METHOD:PUBLISH
BEGIN:VTIMEZONE
TZID:America/Anguilla
X-LIC-LOCATION:America/Anguilla
BEGIN:STANDARD
TZOFFSETFROM:-0400
TZOFFSETTO:-0400
TZNAME:AST
DTSTART:19700101T000000
END:STANDARD
END:VTIMEZONE
BEGIN:VEVENT
UID:2024711:Event:32446
DTSTAMP:20260425T133302Z
SUMMARY:EARTH HOUR
DESCRIPTION:\n\n\n \n \nLights are turning off With WWF’s Earth Ho
 ur taking place at 8:30 p.m. local time, the global Earth Hour kick-of
 f has begun. Check out images and stories from around the world and in
  Canada. Follow us on Facebook and Twitter to see images and hear stor
 ies from lights-out events around the world and to share your stories 
 with the rest of the world. Still looking for that perfect way to cele
 brate tonight? View WWF's Earth Hour events calendar and find out what
 ’s happening in your neighbourhood.  Let’s show the rest of the wo
 rld how Canadians can celebrate!\n\n \n\n\n\n\n\n\n \n \n \n \n\n\n\n\
 n\n\n\n\n\n\n\n\n\n\n\n\nFor more information visit https://fixourworl
 d.ca/events/earth-hour-2
DTSTART;TZID=America/Anguilla:20110326T203000
DTEND;TZID=America/Anguilla:20110326T213000
CATEGORIES:action
LOCATION:GLOBAL
WEBSITE:
URL:
CONTACT:
ORGANIZER;CN=FixOurWorld:https://fixourworld.ca/profile/Chad
ATTACH;FMTTYPE="image/jpeg":http://storage.ning.com/topology/rest/1.0/
 file/get/2819571625?profile=original
ATTENDEE;ROLE=REQ-PARTICIPANT;PARTSTAT=ACCEPTED;RSVP=TRUE;CN=FixOurWor
 ld:https://fixourworld.ca/profile/Chad
END:VEVENT
END:VCALENDAR
