BEGIN:VCALENDAR
PRODID:NingEventWidget-v1
VERSION:2.0
METHOD:PUBLISH
BEGIN:VTIMEZONE
TZID:America/Anguilla
X-LIC-LOCATION:America/Anguilla
BEGIN:STANDARD
TZOFFSETFROM:-0400
TZOFFSETTO:-0400
TZNAME:AST
DTSTART:19700101T000000
END:STANDARD
END:VTIMEZONE
BEGIN:VEVENT
UID:2024711:Event:20083
DTSTAMP:20260421T154515Z
SUMMARY:EARTH HOUR
DESCRIPTION:Tell your friends about Earth Hour!\n\nWe need your help t
 o get as many people signed up to Earth Hour as possible! Our goal thi
 s year is to have 1 billion people turn out their lights on March 28, 
 at 8:30 p.m. for Earth Hour. Why? Because the more lights we turn off,
  the stronger our message will be that the world needs action on clima
 te change now! Let governments around the globe know that we are ready
  to take action for our planet and we expect them to take action too.\
 n\nWe need you to get 10 friends, family members or coworkers to sign 
 up for Earth Hour. Here's some tips to get you started: send an e-mail
  to your friends; download our Earth Hour toolkits; and invite people 
 to join through our official Facebook group.\n\n\nWhat do I do?\n\n* S
 ign up today at EarthHourCanada.org\n\n* Get 10 friends to sign up for
  Earth Hour too!\n\nThank you!\n\n\n\n\nSign up for Earth Hour Saturda
 y, March 27Th 8:30 pm - 9:30 pm\n\nSend an email to your friends askin
 g them to turn off their lights for Earth Hour.\n\nYou can now downloa
 d Earth Hour materials, such as web banners, toolkits, logos and poste
 rs to help spread the word in your community. Let the world know about
  Earth Hour and what you are doing.\n\nFor more information visit http
 s://fixourworld.ca/events/earth-hour-1
DTSTART;TZID=America/Anguilla:20100327T203000
DTEND;TZID=America/Anguilla:20100327T213000
CATEGORIES:saving, our, planet
LOCATION:Global
WEBSITE:http://earthhour@wwfcanada.org
URL:http://earthhour@wwfcanada.org
CONTACT:
ORGANIZER:WWF
ATTACH;FMTTYPE="image/jpeg":http://storage.ning.com/topology/rest/1.0/
 file/get/2819572173?profile=original
ATTENDEE;ROLE=REQ-PARTICIPANT;PARTSTAT=ACCEPTED;RSVP=TRUE;CN=FixOurWor
 ld:https://fixourworld.ca/profile/Chad
END:VEVENT
END:VCALENDAR
