BEGIN:VCALENDAR
PRODID:NingEventWidget-v1
VERSION:2.0
METHOD:PUBLISH
BEGIN:VTIMEZONE
TZID:America/Anguilla
X-LIC-LOCATION:America/Anguilla
BEGIN:STANDARD
TZOFFSETFROM:-0400
TZOFFSETTO:-0400
TZNAME:AST
DTSTART:19700101T000000
END:STANDARD
END:VTIMEZONE
BEGIN:VEVENT
UID:2024711:Event:69855
DTSTAMP:20260421T155528Z
SUMMARY:Earth Day Summit 30+ of the planet's most esteemed wisdom-keep
 ers
DESCRIPTION:A FREE ONLINE EVENT  April 22, 2015\nJoin 30+ indigenous w
 isdom-keepers, green pioneers, innovators, activists, scientists, arti
 sts and visionaries –  to awaken humanity for a healthy, sustainable
  and thriving planet.\n\nYou'll find amazing, heart-opening and practi
 cal answers for how we elevate that relationship during this year's ex
 citing online Earth Day Summit -- taking place April 22.\nFrom profoun
 d indigenous elders to sustainable business pioneers, you're invited t
 o join 30+ of the planet's most esteemed wisdom-keepers -- including p
 eople like Arkan Lushwala, Chief Phil Lane, Jr., Drew Dellinger, Andre
 w Harvey, Esperide Ananas and others -- who are helping humanity awake
 n to a more sacred connection with this wondrous planet.   You'll rece
 ive eight hours of amazing, forward-looking inspiration and practical 
 advice that shows what is possible and how much more fulfilling it can
  be to live in an Earth-positive way.   Register for free:  www.earthd
 aysummit.com\n We're all aware of the depths of the ecological crises 
 we face... but how we do solve them?   While there are hundreds of cre
 ative solutions to our problems, one of the most central issues is how
  to shift from an exploitative to a sacred relationship with the natur
 al world. How do we live with reverence, really take care of our plane
 t, create restorative systems and foster harmony?  Register for free: 
  www.earthdaysummit.com\n\n\nFor more information visit https://fixour
 world.ca/events/earth-day-summit-30-of-the-planet-s-most-esteemed-wisd
 om-keepers
DTSTART;TZID=America/Anguilla:20150422T000000
DTEND;TZID=America/Anguilla:20150422T235900
CATEGORIES:earth, day, summit, free, online, event
LOCATION:Online Global
WEBSITE:http://www.earthdaysummit.com
URL:http://www.earthdaysummit.com
CONTACT:
ORGANIZER:The Shift Network
ATTACH;FMTTYPE="image/jpeg":http://storage.ning.com/topology/rest/1.0/
 file/get/2819577310?profile=original
ATTENDEE;ROLE=REQ-PARTICIPANT;PARTSTAT=ACCEPTED;RSVP=TRUE;CN="Sarah Mc
 Combe":https://fixourworld.ca/profile/SarahMcCombe
ATTENDEE;ROLE=REQ-PARTICIPANT;PARTSTAT=ACCEPTED;RSVP=TRUE;CN=FixOurWor
 ld:https://fixourworld.ca/profile/Chad
END:VEVENT
END:VCALENDAR
