BEGIN:VCALENDAR
PRODID:NingEventWidget-v1
VERSION:2.0
METHOD:PUBLISH
BEGIN:VTIMEZONE
TZID:America/Anguilla
X-LIC-LOCATION:America/Anguilla
BEGIN:STANDARD
TZOFFSETFROM:-0400
TZOFFSETTO:-0400
TZNAME:AST
DTSTART:19700101T000000
END:STANDARD
END:VTIMEZONE
BEGIN:VEVENT
UID:2024711:Event:32745
DTSTAMP:20260419T161559Z
SUMMARY:Earth Day Hamilton Rain Barrel Sale
DESCRIPTION:\n\n\n\nTO ORDER IN ADVANCE: http://rainbarrel.ca/earthday
 /RainBarrel.ca is proud to partner with Earth Day Hamilton, a non-prof
 it organization that hosts free annual educational eco-festivals for l
 ocal students and community tree planting events. Rain barrels must be
  ordered in advance and will be available for pickup on Saturday, Apri
 l 16th from 9:30 AM to 1:30 in the South-West parking lot of Limeridge
  Mall. Each rain barrel comes fu...lly equipped with a leaf and mosqui
 to filter basket, an overflow adaptor that permits multiple barrels to
  be connected in series, 1.2m of overflow hose and a spigot that attac
 hes directly to a garden hose. Additional overflow hose can also be pu
 rchased if required. Rain barrels are available in terracotta, grey an
 d black. All have a capacity of approximately 220 litres and are appro
 ximately 1m tall and .6m in diameter. Rain barrels will be sold for $5
 0 each. Customers outside of Hamilton are welcome and there are no lim
 its on the quantity that may be purchased. Proceeds of the sale will b
 e used to support Earth Day Hamilton programming and events. In additi
 on to purchasing rain barrels through this truckload sale, there is an
  opportunity to bid on creative rain barrel designs through the Earth 
 Day Rain Barrel Art Auction.TO ORDER: http://rainbarrel.ca/earthday/Se
 e More\n\n\n\n\n\n\nFor more information visit https://fixourworld.ca/
 events/earth-day-hamilton-rain-barrel
DTSTART;TZID=America/Anguilla:20110416T090000
DTEND;TZID=America/Anguilla:20110416T133000
CATEGORIES:earth, day, hamilton, rain, barrel, sale, "=", public, "eve
 nt="
LOCATION:South-West Parking Lot of Limeridge Mall
WEBSITE:http://rainbarrel.ca/earthday/
URL:http://rainbarrel.ca/earthday/
CONTACT:
ORGANIZER:RainBarrel.ca
ATTACH;FMTTYPE="image/jpeg":http://storage.ning.com/topology/rest/1.0/
 file/get/2819572346?profile=original
ATTENDEE;ROLE=REQ-PARTICIPANT;PARTSTAT=ACCEPTED;RSVP=TRUE;CN=FixOurWor
 ld:https://fixourworld.ca/profile/Chad
END:VEVENT
END:VCALENDAR
