BEGIN:VCALENDAR
PRODID:NingEventWidget-v1
VERSION:2.0
METHOD:PUBLISH
BEGIN:VTIMEZONE
TZID:America/Anguilla
X-LIC-LOCATION:America/Anguilla
BEGIN:STANDARD
TZOFFSETFROM:-0400
TZOFFSETTO:-0400
TZNAME:AST
DTSTART:19700101T000000
END:STANDARD
END:VTIMEZONE
BEGIN:VEVENT
UID:2024711:Event:50293
DTSTAMP:20260421T142240Z
SUMMARY:Doors Open - Green Cottage Participation
DESCRIPTION:Doors Open - Green Cottage Participation  Hello Everyone: 
  Donâ€™t miss Hamilton Doors Open this weekend! :Â Â doorsopenhamilton
 .ca  Iâ€™ll be participating as Hamiltonâ€™s Green Cottage - site #23.
  If youâ€™d like to volunteer for a few hours at the Green Cottage, yo
 ur help will be appreciated!  For visitorsâ€¦ organic fair-trade coffe
 e from Homegrown Hamilton will be available on site.  As well, other p
 roducts will be featured including:\n\nRainbarrels fromÂ Â http://rain
 barrel.ca\nHamilton CarShareÂ Â http://hamiltoncarshare.ca\nComposting
  Toilet by Burlingtonâ€™s Sun-MarÂ Â http://www.sun-mar.com/\nLED ligh
 ting products by LED lighting guru Brian Owen\nKangen Water System (Al
 kaline Water) by BLoveÂ http://blove.ca\nSprouters by BLove Â http://b
 love.ca\nSmartklean Non Detergent Laundry Ballhttp://www.smartkleanont
 ario.com/\nVeggie-Way (that has replaced the driveway)\nSolar Hot Wate
 r and Solar Photovoltaic Systems\nHamilton Climate Change Charter to s
 ign\n\nAnd more! Plus, the Green Cottage is trimmed with salvaged wood
 , and insulated on the outside of the building. Â Andâ€¦ the Green Cot
 tage does NOT have a stove, air conditioner, clothes dryer, refrigerat
 or or microwave. But it does have an eclectic garden for your meanderi
 ng pleasure.  If you are able to assistÂ  for an hour or two this week
 end, please call Peter atÂ Â Â Â Â Â Â Â Â Â Â Â Â 905-526-6458Â Â Â Â
  Â Â . The hours for Doors Open are Saturday and Sunday from 10-4 pm. 
  The grass is greener on the Green side.  Peter Â \n\nFor more informa
 tion visit https://fixourworld.ca/events/doors-open-green-cottage-part
 icipation
DTSTART;TZID=America/Anguilla:20150502T220000
DTEND;TZID=America/Anguilla:20150503T160000
CATEGORIES:doors, open, hamilton
LOCATION:Green Cottage site #23.
WEBSITE:http://doorsopenhamilton.ca
URL:http://doorsopenhamilton.ca
CONTACT:(905) 540-5086
ORGANIZER:Doors Open  Hamilton Tourism and Culture Division
ATTACH;FMTTYPE="image/jpeg":
ATTENDEE;ROLE=REQ-PARTICIPANT;PARTSTAT=ACCEPTED;RSVP=TRUE;CN=FixOurWor
 ld:https://fixourworld.ca/profile/Chad
END:VEVENT
END:VCALENDAR
