BEGIN:VCALENDAR
PRODID:NingEventWidget-v1
VERSION:2.0
METHOD:PUBLISH
BEGIN:VTIMEZONE
TZID:America/Anguilla
X-LIC-LOCATION:America/Anguilla
BEGIN:STANDARD
TZOFFSETFROM:-0400
TZOFFSETTO:-0400
TZNAME:AST
DTSTART:19700101T000000
END:STANDARD
END:VTIMEZONE
BEGIN:VEVENT
UID:2024711:Event:67492
DTSTAMP:20260421T040128Z
SUMMARY:DEEPAK CHOPRA's GLOBAL MEDITATION FOR PEACE
DESCRIPTION:Thank you Thank you Thank you God <3 Thank you for this wo
 nderful Gift of Life, For the Beauty that surrounds us, For All of Nat
 ure, Animals, Bugs, Insects, Bees, Flowers, Trees, Plants, Earth, Wind
 , Sky, Fire, Water, For the incredible beauty and diversity of all Hum
 an beings, Thank you For Every Living Thing that you created <3 I am s
 o Grateful and honored to be here and work for you every day of my lif
 e <3 I Pray that the whole World takes part today in the PEACE Meditat
 ion at 12 noon and we Live Forever more in PEACE, JOY and LOVE the way
  we are meant to <3  I BEG all of my Family Global Family please SHAR
 E and participate TODAY IS THE DAY WE LIVE IN PEACE FOR EVER MORE <3 T
 hank you Thank you Thank you God <3 PEACE IS OUR CHOICE https://www.fa
 cebook.com/events/1472067413036556/\n\nFor more information visit http
 s://fixourworld.ca/events/deepak-chopra-s-global-meditation-for-peace
DTSTART;TZID=America/Anguilla:20140808T120000
DTEND;TZID=America/Anguilla:20140808T130000
CATEGORIES:global, peace, meditation
LOCATION:Global
WEBSITE:
URL:
CONTACT:God
ORGANIZER:Deepak Chopra
ATTACH;FMTTYPE="image/jpeg":http://storage.ning.com/topology/rest/1.0/
 file/get/2819576750?profile=original
ATTENDEE;ROLE=REQ-PARTICIPANT;PARTSTAT=ACCEPTED;RSVP=TRUE;CN=FixOurWor
 ld:https://fixourworld.ca/profile/Chad
END:VEVENT
END:VCALENDAR
