BEGIN:VCALENDAR
PRODID:NingEventWidget-v1
VERSION:2.0
METHOD:PUBLISH
BEGIN:VTIMEZONE
TZID:America/Anguilla
X-LIC-LOCATION:America/Anguilla
BEGIN:STANDARD
TZOFFSETFROM:-0400
TZOFFSETTO:-0400
TZNAME:AST
DTSTART:19700101T000000
END:STANDARD
END:VTIMEZONE
BEGIN:VEVENT
UID:2024711:Event:53559
DTSTAMP:20260425T201846Z
SUMMARY:December 21, 2012 MAYAN FIRE EQUINOX CEREMONY.
DESCRIPTION:PLEASE PLAN TO ATTEND ONCE IN A LIFETIME EVENT!\n \nDecem
 ber 21, 2012 MAYAN FIRE EQUINOX CEREMONY. \nPLANET ALIGNMENT WITH DAR
 K HOLE OR PORTAL, WHATEVER YOU BELIEVE IT TO BE.\nNEXT ONE 52,000 YEAR
 S FROM NOW! \n \nJOIN TATA VICTOR LOPEZ AND ANCESTRAL VOICES HEALING
  CENTRE AS WE BRING IN THIS WONDERFUL ENERGY OF THE NEW TIME. MAYAN F
 IRE EQUINOX CEREMONY WITH TATA VICTOR:\n\n\nDECEMBER 21, 2012  (12-
 21-12) CELBRATING THE EQUINOX AND THE PLANETARY ALIGNMENT.9:30AM MEET
 -UP AT ANCESTRAL VOICES HEALING CENTRE TO CARPOOL TO THE LAND OF THE 
 DANCING DEER, BEHIND OLIVER M SMITH SCHOOL 1208 3RD LINE RD WEST, SIX
  NATIONS (WAY BEHIND THE SCHOOL. FOLLOW PATH)\n\n10:00 A.M. MAYAN F
 IRE EQUINOX FIRE CEREMONY\n\nBY DONATION - SUGGESTED DONATION FOR SUP
 PLIES ETC $20. BRING TWO WHITE CANDLES FOR YOUR OFFERING TO THE FIRE.
 \n\nNOT CANCELLED FOR WEATHER. BE PREPARED FOR ANY WEATHER. DRESS ACCO
 RDINGLY.\n\nALL WELCOME.  BRING YOUR FRIENDS!\nAFTER MAYAN FIRE CEREM
 ONY:\nALL ARE WELCOME AT ANCESTRAL VOICES HEALING CENTRE FOR HEALING T
 EAS AND POT LUCK.ANCESTRAL VOICES HEALING CENTRE (GAIL WHITLOW)\n\n172
 1 CHIEFSWOOD RD,  OHSWEKEN ON N0A 1M0\n\n519-900-1993  Check out de
 tails on website: www.ancestralvoices.ca\n\nGail Whitlow (Ancestral V
 oices)\n\n\n\nFor more information visit https://fixourworld.ca/events
 /december-21-2012-mayan-fire-equinox-ceremony
DTSTART;TZID=America/Anguilla:20121221T100000
DTEND;TZID=America/Anguilla:20121221T130000
CATEGORIES:mayan, fire, ceremony
LOCATION:LAND OF THE DANCING DEER ( LOCATED BEHIND OLIVER M SMITH SCHO
 OL)
WEBSITE:http://www.ancestralvoices.ca
URL:http://www.ancestralvoices.ca
CONTACT:519-900-1993
ORGANIZER:Gail Whitlow (Ancestral Voices)
ATTACH;FMTTYPE="image/jpeg":
ATTENDEE;ROLE=REQ-PARTICIPANT;PARTSTAT=ACCEPTED;RSVP=TRUE;CN="Teresa B
 eckett":https://fixourworld.ca/profile/TeresaBeckett
ATTENDEE;ROLE=REQ-PARTICIPANT;PARTSTAT=ACCEPTED;RSVP=TRUE;CN=FixOurWor
 ld:https://fixourworld.ca/profile/Chad
END:VEVENT
END:VCALENDAR
