BEGIN:VCALENDAR
PRODID:NingEventWidget-v1
VERSION:2.0
METHOD:PUBLISH
BEGIN:VTIMEZONE
TZID:America/Anguilla
X-LIC-LOCATION:America/Anguilla
BEGIN:STANDARD
TZOFFSETFROM:-0400
TZOFFSETTO:-0400
TZNAME:AST
DTSTART:19700101T000000
END:STANDARD
END:VTIMEZONE
BEGIN:VEVENT
UID:2024711:Event:8987
DTSTAMP:20260424T085103Z
SUMMARY:CURE Canada Gala
DESCRIPTION:Leo Johnson, Executive Director, CURE Canada\ncordially in
 vites you to attend\n\nCURE Canada Gala\n\nCelebrate CURE Canada's new
  community outreach youth program, Driven: Beyond Boundaries!\n\nThe e
 vening will include a reception with drinks, dessert, live music, a th
 eatrical performance, a silent auction, and much more.\n\nSunday, Apri
 l 26th, 2009\nDoors: 7:00 PM\nReception: 7:30 PM\n\nStudio Theatre, Ha
 milton Place\n1 Summers Lane\nHamilton, Ontario\n\nTickets: Available 
 online at http://www.curecanada.org/gala or at the door.\n\nCost: Stud
 ents/Seniors - $10.00, Adults - $15.00\n\nFor more information visit h
 ttps://fixourworld.ca/events/cure-canada-gala
DTSTART;TZID=America/Anguilla:20090426T190000
DTEND;TZID=America/Anguilla:20090426T230000
CATEGORIES:gala, fundraiser
LOCATION:Studio Theatre, Hamilton Place
WEBSITE:http://gala@curecanada.org
URL:http://gala@curecanada.org
CONTACT:
ORGANIZER:CURE Canada
ATTACH;FMTTYPE="image/jpeg":http://storage.ning.com/topology/rest/1.0/
 file/get/2819571591?profile=original
ATTENDEE;ROLE=REQ-PARTICIPANT;PARTSTAT=ACCEPTED;RSVP=TRUE;CN=FixOurWor
 ld:https://fixourworld.ca/profile/Chad
END:VEVENT
END:VCALENDAR
