BEGIN:VCALENDAR
PRODID:NingEventWidget-v1
VERSION:2.0
METHOD:PUBLISH
BEGIN:VTIMEZONE
TZID:America/Anguilla
X-LIC-LOCATION:America/Anguilla
BEGIN:STANDARD
TZOFFSETFROM:-0400
TZOFFSETTO:-0400
TZNAME:AST
DTSTART:19700101T000000
END:STANDARD
END:VTIMEZONE
BEGIN:VEVENT
UID:2024711:Event:50404
DTSTAMP:20260426T000349Z
SUMMARY:Cootes Dr.Turtle Habitat Improvement & Garbage Clean Up
DESCRIPTION:Wednesday May 9th to Friday May 11th\n9am to 4pm\nDrop in 
 for as long or as short as you like!\nRBG staff are getting Cootes Dr.
  ready for turtle nesting season by:\n*Reinstalling Guide fencing alon
 g the roadside to encourage turtles to cross under the road\n* Clearin
 g out envasive shrubs and turning the soils to create open areas for t
 urtle nesting:\n*and a clean up of garbage along Cootes Dr.\nIf you ar
 e interesting in Volunteering to help please contact\nKathyrn Harrison
  at 905.527.1158 x 519 kharrison@rbg.ca\n\nFor more information visit 
 https://fixourworld.ca/events/cootes-dr-turtle-habitat-improvement-gar
 bage-clean-up
DTSTART;TZID=America/Anguilla:20120509T090000
DTEND;TZID=America/Anguilla:20120511T160000
CATEGORIES:clean, up, cootes, dr
LOCATION:Cootes DR
WEBSITE:
URL:
CONTACT:905.527.1158 x 519  kharrison@rbg.ca
ORGANIZER:RBG
ATTACH;FMTTYPE="image/jpeg":
ATTENDEE;ROLE=REQ-PARTICIPANT;PARTSTAT=ACCEPTED;RSVP=TRUE;CN=FixOurWor
 ld:https://fixourworld.ca/profile/Chad
END:VEVENT
END:VCALENDAR
