BEGIN:VCALENDAR
PRODID:NingEventWidget-v1
VERSION:2.0
METHOD:PUBLISH
BEGIN:VTIMEZONE
TZID:America/Anguilla
X-LIC-LOCATION:America/Anguilla
BEGIN:STANDARD
TZOFFSETFROM:-0400
TZOFFSETTO:-0400
TZNAME:AST
DTSTART:19700101T000000
END:STANDARD
END:VTIMEZONE
BEGIN:VEVENT
UID:2024711:Event:53656
DTSTAMP:20260425T213713Z
SUMMARY:Cootes clean up 2012-12-16
DESCRIPTION:Stewards of Cootes Watershed: our next event this upcoming
  Sunday the 16th - found on our facebook page.\n \nSunday December 16
 th 2012, Noon to 4pm\nMeet again at the front gates to the RBG Arboret
 um on Old Guelph Road.  For more details please contact Alan Hansell 
 at cooteswatershed@gmail.com or by calling 289-239-7649\n\nFor more in
 formation visit https://fixourworld.ca/events/cootes-clean-up-2012-12-
 16
DTSTART;TZID=America/Anguilla:20121216T120000
DTEND;TZID=America/Anguilla:20121216T160000
CATEGORIES:clean, up
LOCATION:RBG Arboretum front gate
WEBSITE:
URL:
CONTACT:289-239-7649
ORGANIZER:Neal Bonnor / Alan Hansell
ATTACH;FMTTYPE="image/jpeg":
ATTENDEE;ROLE=REQ-PARTICIPANT;PARTSTAT=ACCEPTED;RSVP=TRUE;CN="Neal Bon
 nor":https://fixourworld.ca/profile/NealBonnor
END:VEVENT
END:VCALENDAR
