BEGIN:VCALENDAR
PRODID:NingEventWidget-v1
VERSION:2.0
METHOD:PUBLISH
BEGIN:VTIMEZONE
TZID:America/Anguilla
X-LIC-LOCATION:America/Anguilla
BEGIN:STANDARD
TZOFFSETFROM:-0400
TZOFFSETTO:-0400
TZNAME:AST
DTSTART:19700101T000000
END:STANDARD
END:VTIMEZONE
BEGIN:VEVENT
UID:2024711:Event:23675
DTSTAMP:20260419T111301Z
SUMMARY:Bandslam
DESCRIPTION:Battle of the Bands with over $3000 in cash and prizes\nSt
 udio time and inclusion in the official Bandslam album\nWinning Band w
 ill be on next year's promotional materials\nTHE MOST EPIC BATTLE HAMI
 LTON HAS EVER SEEN\n\nwww.pemevents.com\n\nFor more information visit 
 https://fixourworld.ca/events/bandslam-1
DTSTART;TZID=America/Anguilla:20101120T180000
DTEND;TZID=America/Anguilla:20110618T230000
CATEGORIES:party, battle, of, the, bands, music
LOCATION:Hamilton Place
WEBSITE:
URL:
CONTACT:905 573 6641
ORGANIZER:Catharine
ATTACH;FMTTYPE="image/jpeg":http://storage.ning.com/topology/rest/1.0/
 file/get/2819572325?profile=original
ATTENDEE;ROLE=REQ-PARTICIPANT;PARTSTAT=ACCEPTED;RSVP=TRUE;CN="Kojo \"E
 asy\" Damptey":https://fixourworld.ca/profile/KojoEasyDamptey
ATTENDEE;ROLE=REQ-PARTICIPANT;PARTSTAT=ACCEPTED;RSVP=TRUE;CN=FixOurWor
 ld:https://fixourworld.ca/profile/Chad
ATTENDEE;ROLE=REQ-PARTICIPANT;PARTSTAT=ACCEPTED;RSVP=TRUE;CN=Cat:https
 ://fixourworld.ca/profile/Cat
END:VEVENT
END:VCALENDAR
