BEGIN:VCALENDAR
PRODID:NingEventWidget-v1
VERSION:2.0
METHOD:PUBLISH
BEGIN:VTIMEZONE
TZID:America/Anguilla
X-LIC-LOCATION:America/Anguilla
BEGIN:STANDARD
TZOFFSETFROM:-0400
TZOFFSETTO:-0400
TZNAME:AST
DTSTART:19700101T000000
END:STANDARD
END:VTIMEZONE
BEGIN:VEVENT
UID:2024711:Event:8824
DTSTAMP:20260422T020850Z
SUMMARY:Art,music and more with artist James Blair  @ THE BREAD AND RO
 SES CAFE !!
DESCRIPTION:Hamilton Artist James Blair brings his new series (an exci
 ting multimedia production) of photos, paintings and music teamed up w
 ith some really neat videos...\nto the bread and roses cafe.\n\nThis i
 s the first time James has recorded music (it's a team project) ... th
 e sound could be called \"grungy, ambient noise w/ chilling vocals\"\n
 \n\n6 paintings, 24 photos, live music and just enough razzle dazzle t
 o make your eyes glaze over with joy!\n\nCome say farewell to James be
 fore he takes this series \"the journey\" to B.C .\n\nTHIS EVENT IS P.
 W.Y.C\nBring canned goods for the artists pantry\n--------------------
 ---------------------------------------\nIF YOU ARE IN A BAND AND WOUL
 D LIKE TO PLAY THIS SHOW... SEND ME SOME MAIL :)\n--------------------
 -----------------------------------\nABOUT THE ARTIST:\n\n\nJames Blai
 r is a 24-year-old Self-trained artist who was born and raised in Hami
 lton Ontario Canada. During high school James worked as an artist find
 ing old furniture in the trash, he would then paint images on the furn
 iture and sell it for profit. After spending a few years acting in loc
 al theatre and getting married to his loving husband Steven, James kne
 w it was time to wet his paint brushes again with the release of his f
 ork you! Series presented by Tossounian Studio on April 11th 2008.\n\n
 After a successful showing of the fork you! Series James then joined e
 stablished Ontario artist Jeanette Tossounian, International artist Ke
 ndal Hurley and His good friend Juliana La Chance in support of the ar
 ts by sharing there works during the opening of Tossounian Gallery in 
 Niagara Falls Ontario.\n\nTossounian Gallery opened and became so busy
  Jeanette had to hire\nartists to help with sales and general artistic
  need.\n\nAfter a few months of the unestablished and misdirected art 
 scene In a community packed with strong political agendas and lack of 
 inspiration James decided it would be best to come back to his hometow
 n where he could focus on his own artistic journey.\nDuring the summer
  of 2008 James toured parts of Ontario with his artwork.\n\nCITIES HE 
 VISITED:\nPort Dover\nSimcoe\nEtobicoke\nStoney Creek\nToronto\n\nHe s
 pent all of September caring for his husband who suffered from termina
 l lung cancer.\nIt is during these dark times of endless hospital visi
 ts and lack of funds that he created his series Exibit A (featuring an
 gels and Christ Driven images) which was released during the James Str
 eet Art Crawl at The MEX I CAN.\nDuring October and november His husba
 nd became more ill. He lovingly cared for his husband at home for two 
 beautiful months. In December James and Steven took one last journey t
 ogether to the Dr. Bob Kemp Hospice. James cared for Steven full time 
 in the hospice for 2 weeks and was with this wonderful and inspiring m
 an when he met God. \"he was not afraid, he smiled all day\" he stated
 . His newer paintings are Darker and a bit more profound (expressing h
 is grief) featuring some of the styles of one of his favourite artists
  J.Tossounian.\n\"she took me under her wing and got me back into pain
 ting\" he says. \" My Husband was so happy to watch me paint all the t
 ime\" he added. \" He climbed up a full flight of stairs to Jeannette'
 s second floor studio to see my first series.. and all he could say wa
 s YOU'VE MADE IT !\" and he has.\n\nFor more information visit https:/
 /fixourworld.ca/events/artmusic-and-more-with-artist
DTSTART;TZID=America/Anguilla:20090710T200000
DTEND;TZID=America/Anguilla:20090711T000000
CATEGORIES:art, show
LOCATION:The Bread and Roses Cafe
WEBSITE:
URL:
CONTACT:
ORGANIZER:James Blair Art Gallery
ATTACH;FMTTYPE="image/jpeg":http://storage.ning.com/topology/rest/1.0/
 file/get/2819571708?profile=original
ATTENDEE;ROLE=REQ-PARTICIPANT;PARTSTAT=ACCEPTED;RSVP=TRUE;CN="James Bl
 air":https://fixourworld.ca/profile/JamesBlair
END:VEVENT
END:VCALENDAR
