BEGIN:VCALENDAR
PRODID:NingEventWidget-v1
VERSION:2.0
METHOD:PUBLISH
BEGIN:VTIMEZONE
TZID:America/Anguilla
X-LIC-LOCATION:America/Anguilla
BEGIN:STANDARD
TZOFFSETFROM:-0400
TZOFFSETTO:-0400
TZNAME:AST
DTSTART:19700101T000000
END:STANDARD
END:VTIMEZONE
BEGIN:VEVENT
UID:2024711:Event:22048
DTSTAMP:20260419T150109Z
SUMMARY:Animal Freedom Day
DESCRIPTION:Mission for Animal Freedom Day\n\nTo spread awareness on f
 actory farming, animal rights and veganism.\n\nTo globally promote ref
 raining from eating meat, poultry, fish/seafood and animal bi-products
 .\n\nTo educate people worldwide on how to love and respect all animal
 s and wildlife.\n\nTo pass a legislation for all governments to halt t
 he advertisements of raw flesh/meat appearances on any marketing mediu
 m.\n\nIf you can't make it out to the festival on July 24th you can ho
 st your own event in your area!\nYou also are able to webcast your eve
 nt for the world to see.\n\nHow?\nFirst you must register for your eve
 nt. This way everyone will know where your event is being held through
  the Animal Freedom Day website.\nPlease register here.\n\nYou must de
 cide where you are going to host the event.\n\nYou can use the AFD Inv
 ite Template which allows you to inform a venue, community centre, sch
 ool, etc. about this day/event. This template is an attachment that ca
 n act as a proposal for each facility to decide to partake in the Anim
 al Freedom Day U Stream broadcast, and allow you to host the event the
 re.\n\nWhere?\nTry and host the webcast at a local location, such as a
  school, community centre, venue, or even a house.\n\nWho?\nMake sure 
 to invite everyone you know to watch our event on U Stream or come and
  join us in Burlington!\n\nYou are encouraged to create your own Faceb
 ook event page for your local event for Animal Freedom Day.\nYou can a
 lso become a fan/follower of Animal Freedom Day on Facebook and/or Twi
 tter.\nIt is best to post Animal Freedom Day on your Twitter/Facebook,
  e-mail the information about this day, and text your network about th
 e webcast, etc\n\nhttp://www.animalfreedomday.com/mem/register.php\n\n
 Mission for Animal Freedom Day\n\nTo spread awareness on factory farmi
 ng, animal rights and veganism.\n\nTo globally promote refraining from
  eating meat, poultry, fish/seafood and animal bi-products.\n\nTo educ
 ate people worldwide on how to love and respect all animals and wildli
 fe.\n\nTo pass a legislation for all governments to halt the advertise
 ments of raw flesh/meat appearances on any marketing medium.\n\nFor mo
 re information visit https://fixourworld.ca/events/animal-freedom-day
DTSTART;TZID=America/Anguilla:20100724T000000
DTEND;TZID=America/Anguilla:20100724T235900
CATEGORIES:animal, "rights."
LOCATION:Worldwide also Burlington Jazz n Blues Festival
WEBSITE:http://animalfreedomday.com/index.php?option=com_content&view=
 article&id=22&Itemid=53
URL:http://animalfreedomday.com/index.php?option=com_content&view=arti
 cle&id=22&Itemid=53
CONTACT:nadia@animalfreedomday.com
ORGANIZER:NADIA MASOUDI
ATTACH;FMTTYPE="image/jpeg":http://storage.ning.com/topology/rest/1.0/
 file/get/2819572358?profile=original
ATTENDEE;ROLE=REQ-PARTICIPANT;PARTSTAT=ACCEPTED;RSVP=TRUE;CN=FixOurWor
 ld:https://fixourworld.ca/profile/Chad
END:VEVENT
END:VCALENDAR
