BEGIN:VCALENDAR
PRODID:NingEventWidget-v1
VERSION:2.0
METHOD:PUBLISH
BEGIN:VTIMEZONE
TZID:America/Anguilla
X-LIC-LOCATION:America/Anguilla
BEGIN:STANDARD
TZOFFSETFROM:-0400
TZOFFSETTO:-0400
TZNAME:AST
DTSTART:19700101T000000
END:STANDARD
END:VTIMEZONE
BEGIN:VEVENT
UID:2024711:Event:9822
DTSTAMP:20260422T004207Z
SUMMARY:An extremely sad update. Tori has been taken from our world.
DESCRIPTION:On an extremely sad note; the worst news has come that the
  Evil in this world has taken Tori from us. Our hearts and prayers are
  with her loved ones.\n\nThere are no words to make this any easier. M
 y Heart is broken over the loss of Tori. I can only hope that the peop
 le of our world will wake up and come together to form a world of Peac
 e, in so doing educating ALL early in life giving tools to use to prev
 ent people from following through with horrendous thoughts and acts of
  Violence and Injustices.\n\nTori is loved and sadly missed the world 
 over.\n\nLinda Lannigan\n\n\nPlease help bring Tori home. This is the 
 little girl we all heard about on the News who went missing April 8/09
 . I would want the whole world looking for my child.\n\nLinda.\n\nLet'
 s get her home safe to her family.\n\n\n\n\nLynda Wigood\n\nPrincipal\
 n\nFlamborough Centre School\n\n(905) 689-6636\n\nFrom: Michele Ravior
 \n\nSent: Thursday, May 7, 2009 8:53:11 AM\n\nSubject: Tori-keep it ci
 rculating\n\n\n\nVery scary for her family - let's keep this one movin
 g - maybe by some chance someone will have seen her and get her back h
 ome where she belongs !\n\nHere are some better pictures of Victoria, 
 the missing girl from Woodstock , Ontario . Please pass these along - 
 the wider the circulation the better the chances of finding her. You n
 ever know where she might be!\n\nThanks!\n\nDescription:\n\nVictoria (
 Tori) Stafford became missing Wednesday, April 8, 2009 from Woodstock 
 Ontario . We are trying to spread this information to everyone that we
  know. Please pass this on to everyone that you know.\n\nThe last thin
 gs that she was seen wearing:\n\nA black Hannah Montana jacket with a 
 white fur-lined hood, a green sweater, with pink writing on it, a deni
 m or black skirt, black leotards/pantyhose, and black shoes.\n\nShe wa
 s last seen Wednesday April 8 at 3:30pm, leaving Oliver Stephen's scho
 ol with a female \"person of interest\" (per local authorities).\n\nSH
 E IS NOT QUITE NINE YEARS OLD... WILL BE NINE ON JULY 15\n\n\n\nhttp:/
 /www.metronews.ca/vancouver/canada/article/217179--tori-stafford-s-fam
 ily-says-they-have-suspicions-about-composite-sketch\n\n\n\nATT00019.j
 pgATT00022.jpgATT00025.jpgATT00028.jpgATT00031.jpgATT00034.jpgATT00037
 .jpgATT00040.jpgATT00043.jpgATT00046.jpg\n\nFor more information visit
  https://fixourworld.ca/events/an-extremely-sad-update-tori
DTSTART;TZID=America/Anguilla:20090510T060000
DTEND;TZID=America/Anguilla:20090531T190000
CATEGORIES:missing, child
LOCATION:Global
WEBSITE:
URL:
CONTACT:(905) 689-6636
ORGANIZER:FixOurWorld/Flamborough Centre School
ATTACH;FMTTYPE="image/jpeg":http://storage.ning.com/topology/rest/1.0/
 file/get/2819571600?profile=original
ATTENDEE;ROLE=REQ-PARTICIPANT;PARTSTAT=ACCEPTED;RSVP=TRUE;CN=shirley:h
 ttps://fixourworld.ca/profile/shirley
ATTENDEE;ROLE=REQ-PARTICIPANT;PARTSTAT=ACCEPTED;RSVP=TRUE;CN=FixOurWor
 ld:https://fixourworld.ca/profile/Chad
END:VEVENT
END:VCALENDAR
