BEGIN:VCALENDAR
PRODID:NingEventWidget-v1
VERSION:2.0
METHOD:PUBLISH
BEGIN:VTIMEZONE
TZID:America/Anguilla
X-LIC-LOCATION:America/Anguilla
BEGIN:STANDARD
TZOFFSETFROM:-0400
TZOFFSETTO:-0400
TZNAME:AST
DTSTART:19700101T000000
END:STANDARD
END:VTIMEZONE
BEGIN:VEVENT
UID:2024711:Event:34251
DTSTAMP:20260419T150622Z
SUMMARY:An Evening in Support of Leo Johnson
DESCRIPTION: \nAdmission $15.00\n \nYou are Cordially Invited: \n 
 \nPlease join friends, colleagues, organizations, and community member
 s to celebrate and support the reunion of Leo Johnson and his family i
 n Liberia after being separated by war for the last 13 years.\n \nThe
  trip will also be dedicated to developing the site that will host pos
 t war Liberia's first Library, a project currently being planning by e
 mpowerment squared.\n \nLeo's efforts in our community since his arri
 val 4 years ago as a government sponsored Refugee will be celebrated a
 nd recognized.\n \nAll Donations and gifts will go towards supporting
  Leo's reunion trip expenses and the site development efforts of the c
 ampaign for the Samuel Morris Memorial Library and Community Centre.\n
 \nFor more information visit https://fixourworld.ca/events/an-evening-
 in-support-of-leo
DTSTART;TZID=America/Anguilla:20110430T180000
DTEND;TZID=America/Anguilla:20110430T203000
CATEGORIES:fundraiser
LOCATION:Globe Youth Centre
WEBSITE:http://empowermentsquared.org
URL:http://empowermentsquared.org
CONTACT:
ORGANIZER:info@empowermentwquared.org
ATTACH;FMTTYPE="image/jpeg":
ATTENDEE;ROLE=REQ-PARTICIPANT;PARTSTAT=ACCEPTED;RSVP=TRUE;CN=FixOurWor
 ld:https://fixourworld.ca/profile/Chad
END:VEVENT
END:VCALENDAR
