BEGIN:VCALENDAR
PRODID:NingEventWidget-v1
VERSION:2.0
METHOD:PUBLISH
BEGIN:VTIMEZONE
TZID:America/Anguilla
X-LIC-LOCATION:America/Anguilla
BEGIN:STANDARD
TZOFFSETFROM:-0400
TZOFFSETTO:-0400
TZNAME:AST
DTSTART:19700101T000000
END:STANDARD
END:VTIMEZONE
BEGIN:VEVENT
UID:2024711:Event:9343
DTSTAMP:20260422T033835Z
SUMMARY:ALL OUT FOR MAY 1ST!!!
DESCRIPTION:ALL OUT FOR MAY 1ST!!!\nOur Security Lies In Our Fight!\n\
 nFriday, May 1, 2009\n11:30am - 2:00pm\n\nLocals 1005 and 7135 invite 
 all workers, laid off members, retirees and the community to join us!\
 n\nProtest the loss of manufacturing jobs and nation wrecking.\n\nPens
 ions and jobs are at risk...our security lies in our fight!!!\n\nWe wi
 ll be marching through the industrial core. BBQ to follow at the end o
 f the march.\n\nEveryone to assemble at Local 1005, 350 Kenilworth Ave
  N. and meet back after the march for the BBQ.\n\nFor more information
  contact Local 1005 at 547-1417 or Local 7135 at 544 1417.\n\nFor more
  information visit https://fixourworld.ca/events/all-out-for-may-1st
DTSTART;TZID=America/Anguilla:20090501T113000
DTEND;TZID=America/Anguilla:20090501T140000
CATEGORIES:protest, the, loss, of, manufacturing, jobs, and, nation, "
 wrecking."
LOCATION:Local 1005
WEBSITE:
URL:
CONTACT:9055471417
ORGANIZER:Locals 1005 and 7135
ATTACH;FMTTYPE="image/jpeg":http://storage.ning.com/topology/rest/1.0/
 file/get/2819571460?profile=original
ATTENDEE;ROLE=REQ-PARTICIPANT;PARTSTAT=ACCEPTED;RSVP=TRUE;CN="chris la
 benski":https://fixourworld.ca/profile/chrislabenski
ATTENDEE;ROLE=REQ-PARTICIPANT;PARTSTAT=ACCEPTED;RSVP=TRUE;CN=FixOurWor
 ld:https://fixourworld.ca/profile/Chad
END:VEVENT
END:VCALENDAR
