BEGIN:VCALENDAR
PRODID:NingEventWidget-v1
VERSION:2.0
METHOD:PUBLISH
BEGIN:VTIMEZONE
TZID:America/Anguilla
X-LIC-LOCATION:America/Anguilla
BEGIN:STANDARD
TZOFFSETFROM:-0400
TZOFFSETTO:-0400
TZNAME:AST
DTSTART:19700101T000000
END:STANDARD
END:VTIMEZONE
BEGIN:VEVENT
UID:2024711:Event:15124
DTSTAMP:20260425T070537Z
SUMMARY:All Ages Photo Contest \"What's Your View of Hamilton\"
DESCRIPTION:All Ages Photography Contest\n*Submit personally taken pho
 to's \"What's Your View of Hamilton\" Sponsors for 2010\n\n\nPure NV S
 alon & Spa  SilverCity Ancaster Cineplex Odeon  The Law Office of Debo
 rah Barfknecht  Dave Gruggen Photography 8x10 Family Portrait David Gr
 uggen PhotographyCanadian  2 Tickets\nYouth Ballet Ensemble (CYBE), of
  their sensational Nutcracker http://www.cbye.ca\n \n2 Tickets Shenyu
 n Performing Arts (http://www.shenyunperformingarts.org/)\nShen Yun pr
 esents colorful and exhilarating performances of classical Chinese dan
 ce and music. \n\n\n2 Tickets\nHamilton Bulldogs hockey game as a pri
 ze for your event this weekend. HECFI | Hamilton Entertainment and 
 Convention Facilities Inc.\nHECFI  8x10 Family Portrait David Gruggen 
 Photography http://www.gruggenphotography.com \nAll Ages Photography C
 ontest\nduring the Hamilton James St North Art Crawl on  The call is t
 o Print out and submit 3 personally taken photographs Sizes to be 8 x 
 10 each photo will potentially be bid on in the form of a silent aucti
 on held at 3 locations during the James St North Art Crawl in downtown
  Hamilton.  Artword Artbar 15 Colbourne St Christ's Church Cathedral 2
 52 James St N. 3rd TBA  SUBMIT PHOTOS TO ARTWORD ARTBAR 15 COLBOURNE S
 T ACROSS FROM SHOPPERS DRUG MART ON JAMES ST N. HAMILTON  Entrants mus
 t print and submit their photos no later than 3 days prior to Display 
 Date listed below, with your name, contact info, Theme and location wh
 ere each photo was taken.  Contact Linda llannigan@gmail.com or Prizes
  will be awarded to the 3 photographers with the top funds raised in t
 he silent auction.  Fix Our World Foundation is a non-partisan and non
 -denominational organization based in Hamilton, Ontario, Canada that u
 tilizes the use of the internet, events, concerts and festivals. We co
 nnect with individuals, organizations, university and youth clubs, ban
 ds… worldwide, creating campaigns and initiatives to empower all bei
 ngs to become an active part of the solution, to fix and restore our w
 orld.\nContact: llannigan@gmail.com Fix Our World 905.518.1308\n\nFor
  more information visit https://fixourworld.ca/events/all-ages-photo-c
 ontest-whats
DTSTART;TZID=America/Anguilla:20101210T190000
DTEND;TZID=America/Anguilla:20110114T230000
CATEGORIES:monthly, all, ages, photography, contest
LOCATION:3 Locations During Downtown Art Crawl
WEBSITE:http://www.downtownhamilton.org/DowntownEventsList.asp
URL:http://www.downtownhamilton.org/DowntownEventsList.asp
CONTACT:905.518.1308
ORGANIZER;CN=FixOurWorld:https://fixourworld.ca/profile/Chad
ATTACH;FMTTYPE="image/jpeg":http://storage.ning.com/topology/rest/1.0/
 file/get/2819572068?profile=original
ATTENDEE;ROLE=REQ-PARTICIPANT;PARTSTAT=ACCEPTED;RSVP=TRUE;CN="Gail McG
 innis":https://fixourworld.ca/profile/GailMcGinnis
ATTENDEE;ROLE=REQ-PARTICIPANT;PARTSTAT=ACCEPTED;RSVP=TRUE;CN="Mary Jan
 e Oates":https://fixourworld.ca/profile/MaryJaneOates500
ATTENDEE;ROLE=REQ-PARTICIPANT;PARTSTAT=ACCEPTED;RSVP=TRUE;CN=FixOurWor
 ld:https://fixourworld.ca/profile/Chad
ATTENDEE;ROLE=REQ-PARTICIPANT;PARTSTAT=TENTATIVE;RSVP=TRUE;CN="Rhonda 
 Lynn Harrison":https://fixourworld.ca/profile/RhondaLynnHarrison874
ATTENDEE;ROLE=REQ-PARTICIPANT;PARTSTAT=TENTATIVE;RSVP=TRUE;CN="Michell
 e T":https://fixourworld.ca/profile/MichelleTrkulja
END:VEVENT
END:VCALENDAR
