BEGIN:VCALENDAR
PRODID:NingEventWidget-v1
VERSION:2.0
METHOD:PUBLISH
BEGIN:VTIMEZONE
TZID:America/Anguilla
X-LIC-LOCATION:America/Anguilla
BEGIN:STANDARD
TZOFFSETFROM:-0400
TZOFFSETTO:-0400
TZNAME:AST
DTSTART:19700101T000000
END:STANDARD
END:VTIMEZONE
BEGIN:VEVENT
UID:2024711:Event:22901
DTSTAMP:20260419T122542Z
SUMMARY:AIDS Niagara \"WALK for Life\"
DESCRIPTION:Major fundraiser for client services for the entire Niagar
 a Region covering over 800 clients\nAIDS Niagara will host the WALK fo
 r Life on Sunday, September 19,2010 from 1:00 - 4;00 pm. Come to suppo
 rt and to have fun! Music, entertainment, food, refreshments, face-pai
 nting for the kids, water supplied for dogs.\nFor pledge sheets visit 
 www.aidsniagara.com\n\nFor more information visit https://fixourworld.
 ca/events/aids-niagara-walk-for-life
DTSTART;TZID=America/Anguilla:20100919T130000
DTEND;TZID=America/Anguilla:20100919T160000
CATEGORIES:5km, walk, fundraiser
LOCATION:Centennial Park
WEBSITE:http://www.aidsniagara.com
URL:http://www.aidsniagara.com
CONTACT:905-984-8684
ORGANIZER:ValAnn Stepanchuk
ATTACH;FMTTYPE="image/jpeg":
ATTENDEE;ROLE=REQ-PARTICIPANT;PARTSTAT=ACCEPTED;RSVP=TRUE;CN="Marie Be
 lliveau":https://fixourworld.ca/profile/MarieBelliveau
END:VEVENT
END:VCALENDAR
