BEGIN:VCALENDAR
PRODID:NingEventWidget-v1
VERSION:2.0
METHOD:PUBLISH
BEGIN:VTIMEZONE
TZID:America/Anguilla
X-LIC-LOCATION:America/Anguilla
BEGIN:STANDARD
TZOFFSETFROM:-0400
TZOFFSETTO:-0400
TZNAME:AST
DTSTART:19700101T000000
END:STANDARD
END:VTIMEZONE
BEGIN:VEVENT
UID:2024711:Event:26987
DTSTAMP:20260425T082733Z
SUMMARY:A last minute Toy Drive...For City Kidz !
DESCRIPTION:\"T'was two nights before Christmas Eve, and Santa needed 
 help...\"\n\nThis year, MILLIONTH MONKEY MUSIC will organize and host 
 a last minute toy drive on behalf of Hamilton's City Kidz.\n\nCity Kid
 z will pick up the toys on the 23rd, and ensure that there are that ma
 ny more smiles on Christmas day, seeing to it that the children of Ham
 ilton's low income families will get their visit from Santa this year.
  While others are raising food and money, please help us help the chil
 dren of our city. They're the ones who need the joy of Christmas the m
 ost.\n\nA LAST MINUTE TOY DRIVE\n\nWednesday, December 22 at 9:30pm\n\
 nHosted by Joey Mleczko & James Blair\n\nFEATURING:\n\nPALE WHALE (mys
 pace.com/palewhaleband)\nANIMAL FARM (myspace.com/animalfarmsounds)\nR
 ADIO FREE UNIVERSE (myspace.com/rfuniverse)\n\nThis Ain't Hollywood\n3
 45 James Street North\nHamilton, ON\n\n$5 at the door or\nPay-what-you
 -will (PWYW) with a\nNEW unwrapped toy...\n\n\nwww.millionthmonkeymusi
 c.com\nwww.citykidz.ca\n\nFor more information visit https://fixourwor
 ld.ca/events/a-last-minute-toy-drivefor
DTSTART;TZID=America/Anguilla:20101222T213000
DTEND;TZID=America/Anguilla:20101223T010000
CATEGORIES:christmas, concert
LOCATION:345 James Street North
WEBSITE:
URL:
CONTACT:
ORGANIZER;CN="James Blair":https://fixourworld.ca/profile/JamesBlair
ATTACH;FMTTYPE="image/jpeg":http://storage.ning.com/topology/rest/1.0/
 file/get/2819573936?profile=original
ATTENDEE;ROLE=REQ-PARTICIPANT;PARTSTAT=ACCEPTED;RSVP=TRUE;CN=FixOurWor
 ld:https://fixourworld.ca/profile/Chad
ATTENDEE;ROLE=REQ-PARTICIPANT;PARTSTAT=ACCEPTED;RSVP=TRUE;CN="Milliont
 h Monkey Music":https://fixourworld.ca/profile/MillionthMonkeyMusic
ATTENDEE;ROLE=REQ-PARTICIPANT;PARTSTAT=ACCEPTED;RSVP=TRUE;CN="James Bl
 air":https://fixourworld.ca/profile/JamesBlair
END:VEVENT
END:VCALENDAR
