BEGIN:VCALENDAR
PRODID:NingEventWidget-v1
VERSION:2.0
METHOD:PUBLISH
BEGIN:VTIMEZONE
TZID:America/Anguilla
X-LIC-LOCATION:America/Anguilla
BEGIN:STANDARD
TZOFFSETFROM:-0400
TZOFFSETTO:-0400
TZNAME:AST
DTSTART:19700101T000000
END:STANDARD
END:VTIMEZONE
BEGIN:VEVENT
UID:2024711:Event:14043
DTSTAMP:20260420T202416Z
SUMMARY:A Dare to Remember (Stephen Lewis Foundation)
DESCRIPTION:Linda Lannigan http://stephenlewisfoundation.akaraisin.com
 /p/fixourworld.aspx\nA Dare to Remember - A Dare to Remember\nSource: 
 stephenlewisfoundation.akaraisin.com\nI’m taking on A Dare to Rememb
 er for the Stephen Lewis Foundation.I have set a personal fundraising 
 goal and am asking you – my friends, family and colleagues – to sp
 onsor me. The money we raise will go to the grandmothers in Africa.\n\
 nPlease sponsor me by clicking on my link above and donating to The St
 ephen Lewis Foundation\n\nFor more information visit https://fixourwor
 ld.ca/events/a-dare-to-remember-stephen
DTSTART;TZID=America/Anguilla:20091017T130000
DTEND;TZID=America/Anguilla:20091031T220000
CATEGORIES:fundraiser
LOCATION:Online
WEBSITE:
URL:
CONTACT:
ORGANIZER;CN=FixOurWorld:https://fixourworld.ca/profile/Chad
ATTACH;FMTTYPE="image/jpeg":http://storage.ning.com/topology/rest/1.0/
 file/get/2819571918?profile=original
ATTENDEE;ROLE=REQ-PARTICIPANT;PARTSTAT=ACCEPTED;RSVP=TRUE;CN="Matt Har
 ris":https://fixourworld.ca/profile/MattHarris
ATTENDEE;ROLE=REQ-PARTICIPANT;PARTSTAT=ACCEPTED;RSVP=TRUE;CN=FixOurWor
 ld:https://fixourworld.ca/profile/Chad
END:VEVENT
END:VCALENDAR
