BEGIN:VCALENDAR
PRODID:NingEventWidget-v1
VERSION:2.0
METHOD:PUBLISH
BEGIN:VTIMEZONE
TZID:America/Anguilla
X-LIC-LOCATION:America/Anguilla
BEGIN:STANDARD
TZOFFSETFROM:-0400
TZOFFSETTO:-0400
TZNAME:AST
DTSTART:19700101T000000
END:STANDARD
END:VTIMEZONE
BEGIN:VEVENT
UID:2024711:Event:17638
DTSTAMP:20260421T170634Z
SUMMARY:9-1-1 4 Haiti
DESCRIPTION:9-1-1 4 Haiti\nDinner and Auction\nMarch 8, 2010, 6 PM\nWa
 terfront Centre Hamilton, ON\n$35 pp (3 course meal)\n$300 for table o
 f 10\nGuest Speaker:\nVaden Earle, Absolute Leadership\n(Personal Test
 imony from Haiti 2 days after the earthquake)\nSilent & Live Auction\n
 In support of Kids Alive International’s\nRelief Efforts in Haiti\n\
 nFor more information visit https://fixourworld.ca/events/911-4-haiti
DTSTART;TZID=America/Anguilla:20100308T180000
DTEND;TZID=America/Anguilla:20100308T220000
CATEGORIES:3, course, benefit, dinner
LOCATION:Waterfront Centre (Chamber of Commerce)
WEBSITE:http://www.thewaterfrontcentre.com/index.html
URL:http://www.thewaterfrontcentre.com/index.html
CONTACT:905.807.9640
ORGANIZER:Thanh Campbell  Kids Alive International Canada
ATTACH;FMTTYPE="image/jpeg":http://storage.ning.com/topology/rest/1.0/
 file/get/2819572094?profile=original
ATTENDEE;ROLE=REQ-PARTICIPANT;PARTSTAT=ACCEPTED;RSVP=TRUE;CN=FixOurWor
 ld:https://fixourworld.ca/profile/Chad
END:VEVENT
END:VCALENDAR
