BEGIN:VCALENDAR
PRODID:NingEventWidget-v1
VERSION:2.0
METHOD:PUBLISH
BEGIN:VTIMEZONE
TZID:America/Anguilla
X-LIC-LOCATION:America/Anguilla
BEGIN:STANDARD
TZOFFSETFROM:-0400
TZOFFSETTO:-0400
TZNAME:AST
DTSTART:19700101T000000
END:STANDARD
END:VTIMEZONE
BEGIN:VEVENT
UID:2024711:Event:9217
DTSTAMP:20260420T174720Z
SUMMARY:2nd Annual Fix Our World Festival
DESCRIPTION:Join our Facebook group\nhttp://www.facebook.com/groups/ed
 it.php?members&gid=6374572443\n\n\n\n2nd Annual Fix Our World Festival
 \n\nFix Our World Foundation is a non-partisan and non-denominational 
 organization based in Hamilton, Ontario, Canada that utilizes the use 
 of the internet, events, concerts, festivals etc.. to connect with ind
 ividuals, organizations, clubs, bands.. worldwide, creating campaigns 
 and initiatives that are meant to empower and reinforce all beings to 
 become an active part of the solution to fix and restore our world.\n\
 nOur organization is focused on achieving our goals through education,
  motivation, mobilization and lends support to individuals and organiz
 ations local and global who are in need. We promote local talent, arti
 sts and honour all who are making a difference.\n\nSept 4 our theme is
  Peace starting at 4pm to 10pm\nSept 5 Poverty Walk sign up with Fix O
 ur World llannigan@gmail.com starts at The Globe on McNab and Main lea
 ding to Pier 4 Bayfront Park for 12noon. $10 entry funds go to charity
 . An incredible day of music, fun interactive stations, Workshops, (ie
 )Briscoe Music Interactive Electronic DJ Workshop, Skateboard Park,\n\
 nSept 6 This year we are teaming up with Labour Council in support of 
 creating solutions for the job loss in our City, great bands, 2-4pm Po
 peyes Golden Theory Workshop and more..\n\nSept 7 with Labour Day Para
 de all are invited to join us in the Fix Our World Section leading to 
 Dundurn Park, call and confirm if you want to participant. Line-up at 
 9:30 am Second section of parade lineup location TBA\n\nOur Events\nSe
 cond, along with our interactive website, we organize events, concerts
  and festivals where artists, musicians, organizations, schools, youth
  groups, clubs, local business, unite to educate our citizens through 
 displays, workshops, guest speakers, technology, focusing on youth, ou
 r future generation.\n\n\nThis is also a way of honouring our communit
 y members who are making a difference in these areas, gaining recognit
 ion and support for them.\n\n\n*Raising Funds* We chose to raise funds
  during these events for 4 local and 4 global organizations\n\nLOCAL- 
 Cafe Adonai, CURE Canada, Fix Our World Foundation, Christopher Clause
 's Out of The Cold.\nGLOBAL- Make Poverty History, The Stephen Lewis F
 oundation, David Suzuki Foundation, Oxfam Canada\n\nGlobal Movement\nC
 hapters\nWe are reaching out to others to become a Fix Our World Chapt
 er and mirror our events. Each event will be linked on our Web page to
  show the struggles and accomplishments each area faces and achieves.\
 n\n\nOur Events are annual where we will update each year the changes 
 that have been made and where help is needed both locally and globally
  in an effort to Fix Our World. Lastly, we are involving local schools
 , groups, etc.. asking them to make a banner for the issue(s) of their
  choice to be signed by their staff, students, etc.. and later will be
  sent to the G8 Leaders at an upcoming G8 summit. This campaign will b
 e ongoing until our leaders commit to the Millennium Development Goals
 .\n\nPOVERTY:\nENVIRONMENT/CLIMATE CHANGE:\nHIV/AIDS and GLOBAL HEALTH
 :\nPEACE/CONFLICT/INEQUALITY:\n\nPlease feel free to contact The Fix O
 ur World Foundation for more information llannigan@gmail.com, www.mysp
 ace/fixourworld www.fixourworld.ca Fix Our World group on facebook.\nT
 hank you so much for your support.\n\nBecause It All Starts In Our Own
  Backyards, \"If We Believe We Will Achieve\"\n\nFor more information 
 visit https://fixourworld.ca/events/2nd-annual-fix-our-world
DTSTART;TZID=America/Anguilla:20090904T160000
DTEND;TZID=America/Anguilla:20090907T170000
CATEGORIES:festival, global, movement
LOCATION:Pier 4 Bayfront Park area beside Leander Boat Club
WEBSITE:http://fixourworld.ning.com/notes/Event_Information
URL:http://fixourworld.ning.com/notes/Event_Information
CONTACT:905.518.1308
ORGANIZER:FixOurWorldFoundation
ATTACH;FMTTYPE="image/jpeg":http://storage.ning.com/topology/rest/1.0/
 file/get/2819571777?profile=original
ATTENDEE;ROLE=REQ-PARTICIPANT;PARTSTAT=ACCEPTED;RSVP=TRUE;CN="KARMA KR
 EEPS":https://fixourworld.ca/profile/KarmaKreeps
ATTENDEE;ROLE=REQ-PARTICIPANT;PARTSTAT=ACCEPTED;RSVP=TRUE;CN="Robert  
 Earl Wallace Townsend":https://fixourworld.ca/profile/RobertEarlWallac
 eTownsend
ATTENDEE;ROLE=REQ-PARTICIPANT;PARTSTAT=ACCEPTED;RSVP=TRUE;CN="Sherri T
 remblay":https://fixourworld.ca/profile/SherriTremblay
ATTENDEE;ROLE=REQ-PARTICIPANT;PARTSTAT=ACCEPTED;RSVP=TRUE;CN=Nicole:ht
 tps://fixourworld.ca/profile/Nicole
ATTENDEE;ROLE=REQ-PARTICIPANT;PARTSTAT=ACCEPTED;RSVP=TRUE;CN="jeremy b
 oyd":https://fixourworld.ca/profile/jeremyboyd
ATTENDEE;ROLE=REQ-PARTICIPANT;PARTSTAT=ACCEPTED;RSVP=TRUE;CN="Andre & 
 the J-Tones":https://fixourworld.ca/profile/AndretheJTones
ATTENDEE;ROLE=REQ-PARTICIPANT;PARTSTAT=ACCEPTED;RSVP=TRUE;CN=shirley:h
 ttps://fixourworld.ca/profile/shirley
ATTENDEE;ROLE=REQ-PARTICIPANT;PARTSTAT=ACCEPTED;RSVP=TRUE;CN="mary jan
 iga":https://fixourworld.ca/profile/maryjaniga
ATTENDEE;ROLE=REQ-PARTICIPANT;PARTSTAT=ACCEPTED;RSVP=TRUE;CN="James Bl
 air":https://fixourworld.ca/profile/JamesBlair
ATTENDEE;ROLE=REQ-PARTICIPANT;PARTSTAT=ACCEPTED;RSVP=TRUE;CN=Valerie:h
 ttps://fixourworld.ca/profile/Valerie
ATTENDEE;ROLE=REQ-PARTICIPANT;PARTSTAT=ACCEPTED;RSVP=TRUE;CN="Rhonda L
 ynn Harrison":https://fixourworld.ca/profile/RhondaLynnHarrison
ATTENDEE;ROLE=REQ-PARTICIPANT;PARTSTAT=ACCEPTED;RSVP=TRUE;CN="Kristin 
 Prokaziuk":https://fixourworld.ca/profile/KristinProkaziuk
ATTENDEE;ROLE=REQ-PARTICIPANT;PARTSTAT=ACCEPTED;RSVP=TRUE;CN=Ixbalanqu
 e:https://fixourworld.ca/profile/Ixbalanque
ATTENDEE;ROLE=REQ-PARTICIPANT;PARTSTAT=ACCEPTED;RSVP=TRUE;CN="All For 
 Nothing":https://fixourworld.ca/profile/AllForNothing
ATTENDEE;ROLE=REQ-PARTICIPANT;PARTSTAT=ACCEPTED;RSVP=TRUE;CN="Fall Of 
 Spring":https://fixourworld.ca/profile/FallOfSpring
ATTENDEE;ROLE=REQ-PARTICIPANT;PARTSTAT=ACCEPTED;RSVP=TRUE;CN=FixOurWor
 ld:https://fixourworld.ca/profile/Chad
END:VEVENT
END:VCALENDAR
