BEGIN:VCALENDAR
PRODID:NingEventWidget-v1
VERSION:2.0
METHOD:PUBLISH
BEGIN:VTIMEZONE
TZID:America/Anguilla
X-LIC-LOCATION:America/Anguilla
BEGIN:STANDARD
TZOFFSETFROM:-0400
TZOFFSETTO:-0400
TZNAME:AST
DTSTART:19700101T000000
END:STANDARD
END:VTIMEZONE
BEGIN:VEVENT
UID:2024711:Event:16520
DTSTAMP:20260421T154710Z
SUMMARY:27th Annual International AIDS Candlelight Memorial
DESCRIPTION:Fix Our World & Chapters Ancaster Presents:\n27th Annual I
 nternational AIDS Candlelight Memorial\n\nSpecial Music Guests:\nSat M
 ay 15\n3:00 to 4:00 - Melissa Bel\n4:10 to 4:40- Francine Ngenda\n5:00
  to 6:00- Christopher Clause\n6:00 to 7:00- Chris & Christa\n7:00 to 7
 :30- Marryiam Khan- Flutist from St Thomas More Secondary School\nothe
 rs TBA\n\nSun May 16\n3:00 to 4:00 Dan Medakovic\n4:00 to 5:00 Joni Ne
 hRita\n5:30 to 7:30 - Mark McNeil Mo Kauffey Duane Rutter\n\n\nGuest S
 peaker:\nLeading Candlelight Memorial\n7:50 to 8:00- Theresa Randles: 
 Grandmothers of Steel\n\nMarryiam Khan-Flutist will perform during Can
 dlelight Procession.\nProcession starts at 8pm leading out of Chapters
  to the Soccer Field where we will form the Symbol of Hope\nCandles ar
 e available at Chapters & Starbucks Ancaster\n\nOur photos from this e
 vent will be sent to the Global Health Council where the rest of the w
 orld can view our event uniting with 119 Countries.\n.\nAs a Fundraise
 r for the Stephen Lewis Foundation we encourage you to make purchases 
 on these days. We will have stickers available to show you are support
 ing this event in return Chapters Ancaster will donate 10% to the The 
 Stephen Lewis Foundation on May 15 & 16\nCome and fill out the ballet 
 at our table.\n\nIn Addition Westdale Library and possible others will
  have a display for the Month of May raising awareness and educating t
 he public about HIV/AIDS as well as promoting our Candlelight Memorial
 . Please take the time to read the display materials.\n\nThank you to 
 our Sponsors: Chapters, Starbucks, Westdale Library\n\nfor the 2010 Ca
 ndlelight Memorial: \"Many Lights for Human Rights\", which We feel th
 is theme captures the collective movement of the Candlelight to move t
 o action in the drive for access to treatment, care, and prevention, i
 n addition to the elimination of stigma and discrimination. It also al
 igns with the UNAIDS 2009 World AIDS Day theme of \"Universal Access &
  Human\nRights\".\n\nFor more information visit https://fixourworld.ca
 /events/27th-annual-international-aids
DTSTART;TZID=America/Anguilla:20100515T000000
DTEND;TZID=America/Anguilla:20100516T235900
CATEGORIES:candlelight, memorial, procession, education, music, fundra
 iser
LOCATION:Chapters
WEBSITE:http://guide.opendns.com/?url=chaptersancaster
URL:http://guide.opendns.com/?url=chaptersancaster
CONTACT:905.518.1308  905) 648-7155
ORGANIZER;CN=FixOurWorld:https://fixourworld.ca/profile/Chad
ATTACH;FMTTYPE="image/jpeg":http://storage.ning.com/topology/rest/1.0/
 file/get/2819572155?profile=original
ATTENDEE;ROLE=REQ-PARTICIPANT;PARTSTAT=ACCEPTED;RSVP=TRUE;CN="José F.
  Colón":https://fixourworld.ca/profile/JoseFColon
ATTENDEE;ROLE=REQ-PARTICIPANT;PARTSTAT=ACCEPTED;RSVP=TRUE;CN="James Bl
 air":https://fixourworld.ca/profile/JamesBlair
ATTENDEE;ROLE=REQ-PARTICIPANT;PARTSTAT=ACCEPTED;RSVP=TRUE;CN=FixOurWor
 ld:https://fixourworld.ca/profile/Chad
END:VEVENT
END:VCALENDAR
