BEGIN:VCALENDAR
PRODID:NingEventWidget-v1
VERSION:2.0
METHOD:PUBLISH
BEGIN:VTIMEZONE
TZID:America/Anguilla
X-LIC-LOCATION:America/Anguilla
BEGIN:STANDARD
TZOFFSETFROM:-0400
TZOFFSETTO:-0400
TZNAME:AST
DTSTART:19700101T000000
END:STANDARD
END:VTIMEZONE
BEGIN:VEVENT
UID:2024711:Event:7482
DTSTAMP:20260421T231910Z
SUMMARY:26th Annual International AIDS Candlelight Memorial
DESCRIPTION:This World AIDS Day (December 1st), the Global Health Coun
 cil unveiled the official poster and theme for the 2009 International 
 AIDS Candlelight Memorial taking place worldwide on Sunday, May 17th.\
 n\nThe Global Health Council is proud to announce the theme for the 20
 09 Candlelight Memorial: \"Together, We Are the Solution.\" The theme 
 is meant to reflect the Candlelight Memorial's mission to promote both
  global solidarity and resolution to end HIV/AIDS, and that only when 
 we work in partnership together can we see change.\n\nCoordinators are
  encouraged to use this theme in conjunction with their own local them
 es.\n\nTo officially commemorate the start of the worldwide memorials,
  FIX OUR WORLD is teaming up with Make Poverty History, the Stephen Le
 wis Foundation & CURE Canada to educate, motivate and mobilize the cit
 y of Hamilton with innovative approaches to issues surrounding the HIV
 /AIDS pandemic. In an effort to positively diversify our approach, we 
 will be sharing the experiences of several Guest Speakers, local schoo
 ls, local musicians and bands among a host of national and internation
 al guests.\n\nIt will be a special way to reach out to thousands of yo
 uth and 119 countries around the world that will also be joining us in
  celebrating this event.\n\nWe believe this will be an exceptional way
  to get the message out to the world that we are all responsible to fi
 x our world.\n\nWe look forward to this memorable event with great ant
 icipation.\nLinda Lannigan\nFix Our World Foundation\nwww.fixourworld.
 ca\n905.518.1308\nllannigan@gmail.com\n\nFor more information visit ht
 tps://fixourworld.ca/events/26th-annual-international-aids
DTSTART;TZID=America/Anguilla:20090517T180000
DTEND;TZID=America/Anguilla:20090531T220000
CATEGORIES:performance, fundraiser, awareness, enlighten
LOCATION:Hamilton
WEBSITE:http://www.candlelightmemorial.org/
URL:http://www.candlelightmemorial.org/
CONTACT:905.518.1308
ORGANIZER;CN=FixOurWorld:https://fixourworld.ca/profile/Chad
ATTACH;FMTTYPE="image/jpeg":http://storage.ning.com/topology/rest/1.0/
 file/get/2819571574?profile=original
ATTENDEE;ROLE=REQ-PARTICIPANT;PARTSTAT=ACCEPTED;RSVP=TRUE;CN=FixOurWor
 ld:https://fixourworld.ca/profile/Chad
ATTENDEE;ROLE=REQ-PARTICIPANT;PARTSTAT=ACCEPTED;RSVP=TRUE;CN="James Bl
 air":https://fixourworld.ca/profile/JamesBlair
END:VEVENT
END:VCALENDAR
