BEGIN:VCALENDAR
PRODID:NingEventWidget-v1
VERSION:2.0
METHOD:PUBLISH
BEGIN:VTIMEZONE
TZID:America/Anguilla
X-LIC-LOCATION:America/Anguilla
BEGIN:STANDARD
TZOFFSETFROM:-0400
TZOFFSETTO:-0400
TZNAME:AST
DTSTART:19700101T000000
END:STANDARD
END:VTIMEZONE
BEGIN:VEVENT
UID:2024711:Event:52370
DTSTAMP:20260425T105538Z
SUMMARY:1812: The Songbook
DESCRIPTION:Artword theatre presents:1812: The Songbook\nOctober 18 â€
 “ 20, 8 pm.\nA rollicking cabaret about the War of 1812 in music hall 
 style.Â \nHamiltonâ€™s popular folk ensembleÂ What the FolkÂ (Terry Ba
 ll, Geoff Ball, Carolyn Reid, Caroline Olsen and drummer Eric Hanenber
 g) share songs and stories about the War of 1812, and the audience is 
 invited to join in. Illustrated songbooks with the lyrics, and interes
 ting anecdotes about the war, are passed out before every show. Judith
  Sandifordâ€™s dedicated research unearthed a treasure-trove of rousin
 g songs from the period, Â assembled and scripted by Sandiford and Ron
 ald Weihs.Â Â Music arrangements are byÂ What the Folk.Â The show is i
 n cabaret format, with beverages available to loosen up the throat.\nO
 ctoberÂ 18 to 20, 2012 at theÂ Lyric Theatre, 434 King W, near Locke S
 treet,Â (905) 527-6135.Thurs: $19 regular, $16 seniors and studentsFri
  & Sat: $25 regular, $16 students and seniors.Ticketing website:Â http
 ://tickets.lyrichamilton.com/\nRon and Judithwww.artwordtheatre.netwww
 .artword.net/artbar\n\nFor more information visit https://fixourworld.
 ca/events/1812-the-songbook
DTSTART;TZID=America/Anguilla:20121018T200000
DTEND;TZID=America/Anguilla:20121020T200000
CATEGORIES:a, rollicking, cabaret, about, the, war, of, 1812, in, musi
 c, hall, "style."
LOCATION:Lyric Theatre
WEBSITE:http://tickets.lyrichamilton.com/
URL:http://tickets.lyrichamilton.com/
CONTACT:(905) 527-6135.
ORGANIZER:Artword theatre presents:
ATTACH;FMTTYPE="image/jpeg":http://storage.ning.com/topology/rest/1.0/
 file/get/2819576069?profile=original
ATTENDEE;ROLE=REQ-PARTICIPANT;PARTSTAT=ACCEPTED;RSVP=TRUE;CN=FixOurWor
 ld:https://fixourworld.ca/profile/Chad
END:VEVENT
END:VCALENDAR
