BEGIN:VCALENDAR
PRODID:NingEventWidget-v1
VERSION:2.0
METHOD:PUBLISH
BEGIN:VTIMEZONE
TZID:America/Anguilla
X-LIC-LOCATION:America/Anguilla
BEGIN:STANDARD
TZOFFSETFROM:-0400
TZOFFSETTO:-0400
TZNAME:AST
DTSTART:19700101T000000
END:STANDARD
END:VTIMEZONE
BEGIN:VEVENT
UID:2024711:Event:53373
DTSTAMP:20260425T191214Z
SUMMARY:12-12-12 Mayan Fire Ceremony.
DESCRIPTION:Greetings Everyone:\nShare this invitation and the map/dir
 ections. All are welcome.\n\n\n\n\n\n\nHost:\nTata Victor and Gail Whi
 tlow\n\nLocation:\nLAND OF THE DANCING DEER, BEHIND OLIVER M SMITH SCH
 OOL , SIX NATIONS (WAY BEHIND. FOLLOW PATH)1208 3RD LINE RD WESTSIX NA
 TIONS, ON Canada\n\n\nWhen:\nWednesday, December 12, 8:30AM    Add t
 o my Outlook Calendar\n\nPhone:\n519-900-1993 www.ancestralvoices.ca\n
 \nThe time of Prophecy is fast approaching.  MAYAN FIRE CEREMONY:\n\
 n\n\nDECEMBER 12, 2012  (12-12-12)  END OF PRESENT MAYAN CALENDAR. 
 BEGINNING OF THE NEXT.\n\nCEREMONY AT LAND OF THE DANCING DEER, BEHIN
 D OLIVER M SMITH SCHOOL 1208 3RD LINE RD WEST, SIX NATIONS (WAY BEHIND
  THE SCHOOL. FOLLOW PATH)\n\n8:30 A.M. \n\nBY DONATION - SUGGESTED 
 DONATION FOR SUPPLIES ETC $20. BRING TWO WHITE CANDLES FOR OFFERING.\
 n\nNOT CANCELLED FOR WEATHER. BE PREPARED FOR ANY WEATHER. DRESS ACCOR
 DINGLY.\n\nALL WELCOME.  BRING YOUR FRIENDS!\nAFTER MAYAN FIRE CEREMO
 NY:\n\nALL ARE WELCOME AT ANCESTRAL VOICES HEALING CENTRE FOR HEALING 
 TEAS.ANCESTRAL VOICES HEALING CENTRE (GAIL WHITLOW)\n\n1721 CHIEFSWOOD
  RD,  OHSWEKEN ON N0A 1M0\n\n519-900-1993  Check out details on web
 site:  www.ancestralvoices.ca\n\n\n\n\n\n\n\n\n\n\n\nTata Victor wish
 es to know how many people will be at the 12-12-12 Mayan Fire Ceremo
 ny.\n \nTo confirm your attendance, please click on this evite link
  and \"reply yes\" to the evite invitation.  http://active.evite.com
 /app/publicUrl/VGCYQLBOUXGFDDNEOHRW/12-12-12... Remember to use the 
 attached map because googlemap and mapquest directions are not correct
 . Thank you for confirming your attendance.  Remember to bring two 
 white candles to offer at fire ceremony.\n \nWe are looking forward
  to seeing you. \n \nLove and light, Janet Mahony 289-260-0013 (on
  behalf of Tata Victor and Gail Whitlow)\n\n\n\n\n\n\n\n\n\nFor more i
 nformation visit https://fixourworld.ca/events/12-12-12-mayan-fire-cer
 emony
DTSTART;TZID=America/Anguilla:20121212T090000
DTEND;TZID=America/Anguilla:20121212T120000
CATEGORIES:mayan, fire, ceremony
LOCATION:(WAY BEHIND Oliver M Smith School
WEBSITE:http://active.evite.com/app/publicUrl/VGCYQLBOUXGFDDNEOHRW/12-
 12-12...
URL:http://active.evite.com/app/publicUrl/VGCYQLBOUXGFDDNEOHRW/12-12-1
 2...
CONTACT:289-260-0013
ORGANIZER:Tata Victor and Gail Whitlow)
ATTACH;FMTTYPE="image/jpeg":
ATTENDEE;ROLE=REQ-PARTICIPANT;PARTSTAT=ACCEPTED;RSVP=TRUE;CN=FixOurWor
 ld:https://fixourworld.ca/profile/Chad
END:VEVENT
END:VCALENDAR
