BEGIN:VCALENDAR
PRODID:NingEventWidget-v1
VERSION:2.0
METHOD:PUBLISH
BEGIN:VTIMEZONE
TZID:America/Anguilla
X-LIC-LOCATION:America/Anguilla
BEGIN:STANDARD
TZOFFSETFROM:-0400
TZOFFSETTO:-0400
TZNAME:AST
DTSTART:19700101T000000
END:STANDARD
END:VTIMEZONE
BEGIN:VEVENT
UID:2024711:Event:52843
DTSTAMP:20260425T143750Z
SUMMARY:Photo's from New Boardwalk on Caleb's Walk Cootes
DESCRIPTION:\n\nFor more information visit https://fixourworld.ca/even
 ts/10-personalized-boardwalk-board-calebs-walk-cootes
DTSTART;TZID=America/Anguilla:20121202T090000
DTEND;TZID=America/Anguilla:20121208T140000
CATEGORIES:new, boardwalk, calebs, walk, cootes
LOCATION:Aviary in Westdale
WEBSITE:
URL:
CONTACT:905 525 9140 x 24464
ORGANIZER:McMaster Outdoor Club, RBG, Bryan Prince Booksellers, Brian 
 McHaddie, Pita Pit
ATTACH;FMTTYPE="image/jpeg":http://storage.ning.com/topology/rest/1.0/
 file/get/2819575462?profile=original
ATTENDEE;ROLE=REQ-PARTICIPANT;PARTSTAT=ACCEPTED;RSVP=TRUE;CN=FixOurWor
 ld:https://fixourworld.ca/profile/Chad
ATTENDEE;ROLE=REQ-PARTICIPANT;PARTSTAT=ACCEPTED;RSVP=TRUE;CN="Zoe H-C"
 :https://fixourworld.ca/profile/ZoeHC
END:VEVENT
END:VCALENDAR
